Workbook
Name OLE_LINK1: 'Annex 3 Preserved charges'!#REF!

Sheet Overview
A2: Company and Licence name, charging year, effective from, status
B3: Company and Licence name | C3: Year | D3: Effective From | E3: Status
A4: Company and Licence name, charging year, effective from, status | B4: London Power Networks | C4: 2026/27 | D4: 1 April 2026 | E4: Final
A6: List of data tables in this workbook
A7: Worksheet | B7: Information
A8: Annex 1 LV, HV and Unmetered Supplies charges | B8: Annex 1 contains the charges to LV and HV Designated Properties and Unmetered Supplies.
A9: Annex 2 Designated EHV charges | B9: ="Annex 2 contains the charges to Designated EHV Properties and charges applied to LDNOs with Designated EHV Properties/end-users embedded in networks within the " &B4 &" Licence area." -> Annex 2 contains the charges to Designated EHV Properties and charges applied to LDNOs with Designated EHV Properties/end-users embedded in networks within the London Power Networks Licence area.
A10: Annex 3 Preserved charges | B10: Annex 3 contains details of any preserved and additional charges that are valid at this time.
A11: Annex 4 LDNO charges | B11: ="Annex 4 contains charges that are levied on the owner of an embedded network within the "&B4&" Licence area. "&"Electricity suppliers and consumers who have properties connected to an embedded network should contact the embedded network owner to determine their distribution charges."&" The charges listed in this table are not payable by domestic consumers, business consumers or electricity suppliers." -> Annex 4 contains charges that are levied on the owner of an embedded network within the London Power Networks Licence area. Electricity suppliers and consumers who have properties connected to an embedded network should contact the embedded network owner to determine their distribution charges. The charges listed in this table are not payable by domestic consumers, business consumers or electricity suppliers.
A12: Annex 5 LLFs | B12: Annex 5 has been intentionally left blank as this charging statement is published a complete year before the LLFs have been audited. The line loss factors that are approved by the BSC Panel for the applicable year and consequently published on the Elexon website will take precedence and be used in Settlement. This annex will be re-published with these values once they are available.
A13: Annex 6 Charges for New or Amended Designated EHV Properties | B13: ="Annex 6 contains the charges for new or amended Designated EHV Properties and charges applied to LDNOs with new or amended Designated EHV Properties/end-users embedded in networks within the " &B4 &" Licence area." -> Annex 6 contains the charges for new or amended Designated EHV Properties and charges applied to LDNOs with new or amended Designated EHV Properties/end-users embedded in networks within the London Power Networks Licence area.
A14: Annex 7 Fixed adders for Supplier of Last Resort and Eligible Bad Debt pass-through costs | B14: Annex 7 contains the fixed adders to recover Supplier of Last Resort and Eligible Bad Debt pass-through costs. The Excess Supplier of Last Resort fixed adder relates to an increase to previously published charges only.
A15: Nodal prices | B15: Contains the underlying nodal costs used to calculate the current EDCM charges.
A16: SSC unit rate lookup | B16: Contains a mapping of Standard Settlement Configurations to common decodings
A17: Residual Charging Bandings | B17: Contains the four Residual charging band allocation for Customers
A18: TNUoS Mapping | B18: Contains a mapping of DUoS Tariffs to TNUoS Site Charging Bands
A19: Charge calculator | B19: Charge calculator is a tool to help you estimate your distribution charges using current consumption data and forecast consumption data.
A21: Notes to users of this spreadsheet
A23: Please use this spreadsheet with reference to the LC14 use of system charging statement.
A25: Notes to DNOs populating this spreadsheet
A27: DNOs must endeavour to maintain consistency in the structure of this spreadsheet. Any changes to the structure must be noted in the 'Notes to users of this spreadsheet'
A28: The drop down list on the charge calculator can be expanded by unprotecting the charge calculator sheet and selecting 'data', 'data validation...' and then expanding the 'source' data range. The sheet can then be protected.

Sheet Annex 1 LV, HV and UMS charges
A1: Back to Overview
A2: =Overview!B4& " - Effective from "&Overview!D4&" - "&Overview!E4&" LV and HV charges" -> London Power Networks - Effective from 1 April 2026 - Final LV and HV charges
A4: Time Bands for LV and HV Designated Properties | G4: Time Bands for Unmetered Properties
A5: Time periods | B5: Red Time Band | C5: Amber Time Band | E5: Green Time Band | I5: Black Time Band | J5: Yellow Time Band | K5: Green Time Band
A6: Monday to Friday (Including Bank Holidays) All Year | B6: 11:00 - 14:00 16:00 - 19:00 | C6: 07:00 - 11:00 14:00 - 16:00 19:00 - 23:00 | E6: 00:00 - 07:00 23:00 - 24:00 | G6: Monday to Friday (Including Bank Holidays) June to August Inclusive | I6: 11:00 - 14:00 | J6: 07:00 - 11:00 14:00 - 23:00 | K6: 00:00 - 07:00 23:00 - 24:00
A7: Saturday and Sunday All Year | E7: 00:00 - 24:00 | G7: Monday to Friday (Including Bank Holidays) November to February Inclusive | I7: 16:00 - 19:00 | J7: 07:00 - 16:00 19:00 - 23:00 | K7: 00:00 - 07:00 23:00 - 24:00
A8: Notes | B8: All the above times are in UK Clock time | G8: Monday to Friday (Including Bank Holidays) March, April, May and September, October | J8: 07:00 - 23:00 | K8: 00:00 - 07:00 23:00 - 24:00
G9: Saturday and Sunday All year | K9: 00:00 - 24:00
G10: Notes | I10: All the above times are in UK Clock time
A12: Tariff name | B12: Open LLFCs/ DUoS Tariff IDs | C12: PCs | D12: Red/black unit charge p/kWh | E12: Amber/yellow unit charge p/kWh | F12: Green unit charge p/kWh | G12: Fixed charge p/MPAN/day | H12: Capacity charge p/kVA/day | I12: Exceeded capacity charge p/kVA/day | J12: Reactive power charge p/kVArh | K12: Closed LLFCs/ DUoS Tariff IDs
A13: Domestic Aggregated or CT with Residual | B13: 1 | C13: 0, 1, 2 | D13: 10.892 | E13: 0.489 | F13: 0 | G13: 0 | K13: 902
A14: Domestic Aggregated (Related MPAN) | B14: 2 | C14: 2 | D14: 11.164 | E14: 0.761 | F14: 0.064
A15: Non-Domestic Aggregated or CT No Residual | B15: 199 | C15: 0, 3, 4, 5-8 | D15: 9.881 | E15: 0.673 | F15: 0.057 | G15: 5.87
A16: Non-Domestic Aggregated or CT Band 1 | B16: 201, N01 | C16: 0, 3, 4, 5-8 | D16: 9.742 | E16: 0.535 | F16: 0 | G16: 0
A17: Non-Domestic Aggregated or CT Band 2 | B17: 202, N02 | C17: 0, 3, 4, 5-8 | D17: 8.516 | E17: 0 | F17: 0 | G17: 0
A18: Non-Domestic Aggregated or CT Band 3 | B18: 203, N03 | C18: 0, 3, 4, 5-8 | D18: 7.992 | E18: 0 | F18: 0 | G18: 0
A19: Non-Domestic Aggregated or CT Band 4 | B19: 204, N04 | C19: 0, 3, 4, 5-8 | D19: 7.635 | E19: 0 | F19: 0 | G19: 0
A20: Non-Domestic Aggregated (related MPAN) | B20: 200 | C20: 4 | D20: 9.881 | E20: 0.673 | F20: 0.057
A21: LV Site Specific No Residual | B21: 70 | C21: 0 | D21: 7.414 | E21: 0.524 | F21: 0.035 | G21: 14.26 | H21: 7.23 | I21: 7.23 | J21: 0.522
A22: LV Site Specific Band 1 | B22: 71 | C22: 0 | D22: 4.444 | E22: 0.162 | F22: 0.024 | G22: 2.35 | H22: 7.23 | I22: 7.23 | J22: 0.522
A23: LV Site Specific Band 2 | B23: 72 | C23: 0 | D23: 4.388 | E23: 0.162 | F23: 0.024 | G23: 2.35 | H23: 7.23 | I23: 7.23 | J23: 0.522
A24: LV Site Specific Band 3 | B24: 73 | C24: 0 | D24: 4.326 | E24: 0.162 | F24: 0.024 | G24: 2.35 | H24: 7.23 | I24: 7.23 | J24: 0.522
A25: LV Site Specific Band 4 | B25: 74 | C25: 0 | D25: 4.257 | E25: 0.162 | F25: 0.024 | G25: 2.35 | H25: 7.23 | I25: 7.23 | J25: 0.522
A26: LV Sub Site Specific No Residual | B26: 80 | C26: 0 | D26: 4.737 | E26: 0.362 | F26: 0.012 | G26: 11.91 | H26: 8.95 | I26: 8.95 | J26: 0.323
A27: LV Sub Site Specific Band 1 | B27: 81 | C27: 0 | D27: 1.767 | E27: 0 | F27: 0 | G27: 0 | H27: 8.95 | I27: 8.95 | J27: 0.323
A28: LV Sub Site Specific Band 2 | B28: 82 | C28: 0 | D28: 1.711 | E28: 0 | F28: 0 | G28: 0 | H28: 8.95 | I28: 8.95 | J28: 0.323
A29: LV Sub Site Specific Band 3 | B29: 83 | C29: 0 | D29: 1.649 | E29: 0 | F29: 0 | G29: 0 | H29: 8.95 | I29: 8.95 | J29: 0.323
A30: LV Sub Site Specific Band 4 | B30: 84 | C30: 0 | D30: 1.58 | E30: 0 | F30: 0 | G30: 0 | H30: 8.95 | I30: 8.95 | J30: 0.323
A31: HV Site Specific No Residual | B31: 90 | C31: 0 | D31: 3.44 | E31: 0.262 | F31: 0.008 | G31: 120.55 | H31: 9.19 | I31: 9.19 | J31: 0.244
A32: HV Site Specific Band 1 | B32: 91 | C32: 0 | D32: 0.23 | E32: 0 | F32: 0 | G32: 0 | H32: 9.19 | I32: 9.19 | J32: 0.244
... A35: HV Site Specific Band 4 | B35: 94 | C35: 0 | D35: 0.021 | E35: 0 | F35: 0 | G35: 0 | H35: 9.19 | I35: 9.19 | J35: 0.244
A36: Unmetered Supplies | B36: 350, 420, 421, 422, 423 | C36: 0, 1 or 8 | D36: 41.914 | E36: 2.677 | F36: 0.444 | K36: 424, 425, 426, 427, 428, 429, 430, 431, 432, 433, 434, 435
A37: LV Generation Aggregated | B37: 932 | C37: 0, 8 | D37: -7.578 | E37: -0.516 | F37: -0.043 | G37: 0
A38: LV Sub Generation Aggregated | C38: 0 | D38: -6.263 | E38: -0.436 | F38: -0.032 | G38: 0
A39: LV Generation Site Specific | B39: 980 | C39: 0 | D39: -7.578 | E39: -0.516 | F39: -0.043 | G39: 0 | J39: 0.48
A40: LV Generation Site Specific no RP charge | B40: 981 | C40: 0 | D40: -7.578 | E40: -0.516 | F40: -0.043 | G40: 0
A41: LV Sub Generation Site Specific | B41: 984 | C41: 0 | D41: -6.263 | E41: -0.436 | F41: -0.032 | G41: 0 | J41: 0.382
A42: LV Sub Generation Site Specific no RP charge | B42: 985 | C42: 0 | D42: -6.263 | E42: -0.436 | F42: -0.032 | G42: 0
A43: HV Generation Site Specific | B43: 988 | C43: 0 | D43: -4.094 | E43: -0.313 | F43: -0.01 | G43: 8.55 | J43: 0.338
A44: HV Generation Site Specific no RP charge | B44: 989 | C44: 0 | D44: -4.094 | E44: -0.313 | F44: -0.01 | G44: 8.55

Sheet Annex 2 Designated EHV charges
A1: Back to Overview | C1: Note: The DNO reserves the right to apply the listed charges to any other MPANs/MSIDs associated with the site. This includes reallocating charges to a traded MPAN at the same site where another MPAN has been disconnected or de-energised.
A2: =Overview!B4& " - Effective from "&Overview!D4&" - "&Overview!E4&" Designated EHV charges" -> London Power Networks - Effective from 1 April 2026 - Final Designated EHV charges
A4: Time Periods for Designated EHV Properties
A5: Time periods | D5: Super Red Time Band
A6: Monday to Friday (Including Bank Holidays) June to August Inclusive | D6: 11:00 - 14:00
A7: Monday to Friday (Including Bank Holidays) November to February Inclusive | D7: 16:00 - 19:00
A8: Notes | D8: All the above times are in UK Clock time
A10: Import Unique Identifier | B10: LLFC/ DUoS Tariff ID | C10: Import MPANs/MSIDs | D10: Export Unique Identifier | E10: LLFC/ DUoS Tariff ID | F10: Export MPANs/MSIDs | G10: Name | H10: Residual Charging Band | I10: Import Super Red unit charge (p/kWh) | J10: Import fixed charge (p/day) | K10: Import capacity charge (p/kVA/day) | L10: Import exceeded capacity charge (p/kVA/day) | M10: Export Super Red unit charge (p/kWh) | N10: Export fixed charge (p/day) | O10: Export capacity charge (p/kVA/day) | P10: Export exceeded capacity charge (p/kVA/day)
A11: 21MOOR | B11: 854 | C11: 1200062747376;1200062747385 | G11: 21MOOR | H11: 2 | I11: 0.225 | J11: 9297.23 | K11: 2.17 | L11: 2.17
A12: 22BSHP | B12: 810 | C12: 1200062355497;1200062355502 | G12: 22BSHP | H12: 2 | I12: 0.214 | J12: 9297.23 | K12: 2.44 | L12: 2.44
A13: BISHPC | B13: 811 | C13: 1200061143976;1200061143985 | G13: BISHPC | H13: 3 | I13: 0.197 | J13: 26051.02 | K13: 2.58 | L13: 2.58
A14: BLMBGN | B14: 820 | C14: 1200061385700;1200061385710 | G14: BLMBGN | H14: 2 | I14: 0.23 | J14: 9297.23 | K14: 2.45 | L14: 2.45
A15: BLMBGS | B15: 821 | C15: 1200061385729;1200061385738 | G15: BLMBGS | H15: 1 | I15: 0.225 | J15: 1537.69 | K15: 1.74 | L15: 1.74
A16: BRDGTE | B16: 805 | C16: 1200061148014;1200061148023 | G16: BRDGTE | H16: 2 | I16: 0.183 | J16: 9297.23 | K16: 3.14 | L16: 3.14
A17: BRKFLD | B17: 829 | C17: 1200061148060;1200061148079 | G17: BRKFLD | H17: 2 | I17: 0.222 | J17: 9297.23 | K17: 2.45 | L17: 2.45
A18: BRMLEY | C18: MSID: 1630 | G18: BRMLEY | H18: 4 | I18: 0.163 | J18: 53850.23 | K18: 5.17 | L18: 5.17
A19: CRLIMM | B19: 812 | C19: 1200062090483;1200062090492 | G19: CRLIMM | H19: 4 | I19: 0.001 | J19: 67664.65 | K19: 1.19 | L19: 1.19
A20: DART11 | C20: MSID: 1032 | G20: DART11 | H20: 2 | I20: 0.362 | J20: 8702.12 | K20: 6.91 | L20: 6.91
A21: DART33 | C21: MSID: 1032 | G21: DART33 | H21: 3 | I21: 0.763 | J21: 25455.92 | K21: 6.63 | L21: 6.63
A22: EPNLEI | C22: MSID: 1628 | G22: EPNLEI | H22: 4 | I22: 0.022 | J22: 53850.23 | K22: 4.61 | L22: 4.61
A23: FENAVE | B23: 813 | C23: 1200062132159;1200062132168 | G23: FENAVE | H23: 2 | I23: 0.214 | J23: 9297.23 | K23: 2.01 | L23: 2.01
A24: FENCHS | B24: 800 | C24: 1200061144029;1200061144038 | G24: FENCHS | H24: 2 | I24: 0.326 | J24: 9297.23 | K24: 2.81 | L24: 2.81
A25: GBLSWI | B25: 843 | C25: 1200050913681;1200050913690;1200050913706;1200050913715 | G25: GBLSWI | H25: 4 | I25: 0.001 | J25: 65887.76 | K25: 1.89 | L25: 1.89
A26: KNGLPN | C26: MSID: 1027 | G26: KNGLPN | H26: 2 | I26: 0 | J26: 8702.12 | K26: 4.23 | L26: 4.23
A27: LEDNHS | B27: 808 | C27: 1200061144065;1200061144074 | G27: LEDNHS | H27: 2 | I27: 0.204 | J27: 9297.23 | K27: 2.57 | L27: 2.57
A28: LIMEST | B28: 814 | C28: 1200062132006;1200062132015 | G28: LIMEST | H28: 2 | I28: 0.221 | J28: 9297.23 | K28: 2.33 | L28: 2.33
A29: LNWAL1 | B29: 816 | C29: 1200061148194;1200061148200 | G29: LNWAL1 | H29: 1 | I29: 0.219 | J29: 1537.69 | K29: 3.23 | L29: 3.23
A30: LNWALL | B30: 816 | C30: 1200061953070;1200061953089 | G30: LNWALL | H30: 2 | I30: 0.219 | J30: 9297.23 | K30: 1.37 | L30: 1.37
A31: LU_ACT | C31: MSID: 1631 | G31: LU_ACT | H31: 2 | I31: 0 | J31: 9096.35 | K31: 2.2 | L31: 2.2
A32: LU_CAN | B32: 818 | C32: 1200060323207;1200060323216 | G32: LU_CAN | H32: 4 | I32: 0 | J32: 64925.41 | K32: 2.11 | L32: 2.11
A33: LU_CHA | B33: 801 | C33: 1200061231921;1200061231930;1200061231940;1200061231959 | G33: LU_CHA | H33: 4 | I33: 0 | J33: 65537.61 | K33: 1.22 | L33: 1.22
A34: LU_HOX | B34: 804 | C34: 1200060323191 | G34: LU_HOX | H34: 4 | I34: 0 | J34: 63305.27 | K34: 0.62 | L34: 0.62
A35: LU_LOT | B35: 838 | C35: 1200050376902;1200050376911 | G35: LU_LOT | H35: 4 | I35: 0 | J35: 97796.68 | K35: 3.21 | L35: 3.21
A36: LU_MAN | B36: 837 | C36: 1200010200926 | G36: LU_MAN | H36: 4 | I36: 0.005 | J36: 85064.93 | K36: 2.08 | L36: 2.08
A37: LU_STE | B37: 839 | C37: 1200010157225;1200010157234 | G37: LU_STE | H37: 4 | I37: 0 | J37: 63730.55 | K37: 3.54 | L37: 3.54
A38: MRKLNE | B38: 806 | C38: 1200061378624;1200061378633 | G38: MRKLNE | H38: 1 | I38: 0.276 | J38: 1537.69 | K38: 2 | L38: 2
A39: NGC_BA | B39: 817 | C39: 1200010151863;1200010151872 | G39: NGC_BA | H39: 1 | I39: 0 | J39: 942.58 | K39: 1.05 | L39: 1.05
A40: NR_BOW | B40: 807 | C40: 1200060280440;1200060280468 | D40: NR_BOW | E40: 707 | F40: 1200060280430;1200060280459 | G40: NR_BOW | H40: 3 | I40: 0.006 | J40: 34363.43 | K40: 4.58 | L40: 4.58
A41: NR_BRO | B41: 847 | C41: 1200010251559 | G41: NR_BRO | H41: 4 | I41: 0.054 | J41: 57468.57 | K41: 2.52 | L41: 2.52
A42: NR_CIT | B42: 846 | C42: 1200010251521 | G42: NR_CIT | H42: 1 | I42: 0.002 | J42: 1073.99 | K42: 1.35 | L42: 1.35
...

Sheet Annex 2a Import
A1: Note: The list of MPANs / MSIDs provided may be incomplete; the DNO reserves the right to apply the listed charges to any other MPANs / MSIDs associated with the site. Note: This table is automatically populated based on the content of the tab entitled 'Annex 2 Designated EHV Charges'. The timebands are as shown in Annex 2.
A2: =Overview!B4& " - Effective from "&Overview!D4&" - "&Overview!E4&" Designated EHV import charges" -> London Power Networks - Effective from 1 April 2026 - Final Designated EHV import charges
A4: Import Unique Identifier | B4: LLFC/ DUoS Tariff ID | C4: Import MPANs/MSIDs | D4: Name | E4: ='Annex 2 Designated EHV charges'!I10 -> Import Super Red unit charge (p/kWh) | F4: ='Annex 2 Designated EHV charges'!J10 -> Import fixed charge (p/day) | G4: ='Annex 2 Designated EHV charges'!K10 -> Import capacity charge (p/kVA/day) | H4: ='Annex 2 Designated EHV charges'!L10 -> Import exceeded capacity charge (p/kVA/day)
A5: {=IFERROR(INDEX('Annex 2 Designated EHV charges'!$A$11:$A$58, MATCH(0, IF(ISBLANK('Annex 2 Designated EHV charges'!$A$11:$A$58),1, COUNTIF(A$4:$A4, 'Annex 2 Designated EHV charges'!$A$11:$A$58)), 0)),"")} -> 21MOOR | B5: =IF($A5="","",VLOOKUP($A5,'Annex 2 Designated EHV charges'!$A:$O,2,0)) -> 854 | C5: =IF($A5="","",VLOOKUP($A5,'Annex 2 Designated EHV charges'!$A:$O,3,0)) -> 1200062747376;1200062747385 | D5: =IF($A5="","",VLOOKUP($A5,'Annex 2 Designated EHV charges'!$A:$O,7,0)) -> 21MOOR | E5: =IFERROR(IF(VLOOKUP($A5,'Annex 2 Designated EHV charges'!$A:$P,9,FALSE)=0,"",VLOOKUP($A5,'Annex 2 Designated EHV charges'!$A:$P,9,FALSE)),"") -> 0.225 | F5: =IFERROR(IF(VLOOKUP($A5,'Annex 2 Designated EHV charges'!$A:$P,10,FALSE)=0,"",VLOOKUP($A5,'Annex 2 Designated EHV charges'!$A:$P,10,FALSE)),"") -> 9297.23 | G5: =IFERROR(IF(VLOOKUP($A5,'Annex 2 Designated EHV charges'!$A:$P,11,FALSE)=0,"",VLOOKUP($A5,'Annex 2 Designated EHV charges'!$A:$P,11,FALSE)),"") -> 2.17 | H5: =IFERROR(IF(VLOOKUP($A5,'Annex 2 Designated EHV charges'!$A:$P,12,FALSE)=0,"",VLOOKUP($A5,'Annex 2 Designated EHV charges'!$A:$P,12,FALSE)),"") -> 2.17
A6: {=IFERROR(INDEX('Annex 2 Designated EHV charges'!$A$11:$A$58, MATCH(0, IF(ISBLANK('Annex 2 Designated EHV charges'!$A$11:$A$58),1, COUNTIF(A$4:$A5, 'Annex 2 Designated EHV charges'!$A$11:$A$58)), 0)),"")} -> 22BSHP | B6: =IF($A6="","",VLOOKUP($A6,'Annex 2 Designated EHV charges'!$A:$O,2,0)) -> 810 | C6: =IF($A6="","",VLOOKUP($A6,'Annex 2 Designated EHV charges'!$A:$O,3,0)) -> 1200062355497;1200062355502 | D6: =IF($A6="","",VLOOKUP($A6,'Annex 2 Designated EHV charges'!$A:$O,7,0)) -> 22BSHP | E6: =IFERROR(IF(VLOOKUP($A6,'Annex 2 Designated EHV charges'!$A:$P,9,FALSE)=0,"",VLOOKUP($A6,'Annex 2 Designated EHV charges'!$A:$P,9,FALSE)),"") -> 0.214 | F6: =IFERROR(IF(VLOOKUP($A6,'Annex 2 Designated EHV charges'!$A:$P,10,FALSE)=0,"",VLOOKUP($A6,'Annex 2 Designated EHV charges'!$A:$P,10,FALSE)),"") -> 9297.23 | G6: =IFERROR(IF(VLOOKUP($A6,'Annex 2 Designated EHV charges'!$A:$P,11,FALSE)=0,"",VLOOKUP($A6,'Annex 2 Designated EHV charges'!$A:$P,11,FALSE)),"") -> 2.44 | H6: =IFERROR(IF(VLOOKUP($A6,'Annex 2 Designated EHV charges'!$A:$P,12,FALSE)=0,"",VLOOKUP($A6,'Annex 2 Designated EHV charges'!$A:$P,12,FALSE)),"") -> 2.44
A7: {=IFERROR(INDEX('Annex 2 Designated EHV charges'!$A$11:$A$58, MATCH(0, IF(ISBLANK('Annex 2 Designated EHV charges'!$A$11:$A$58),1, COUNTIF(A$4:$A6, 'Annex 2 Designated EHV charges'!$A$11:$A$58)), 0)),"")} -> BISHPC | B7: =IF($A7="","",VLOOKUP($A7,'Annex 2 Designated EHV charges'!$A:$O,2,0)) -> 811 | C7: =IF($A7="","",VLOOKUP($A7,'Annex 2 Designated EHV charges'!$A:$O,3,0)) -> 1200061143976;1200061143985 | D7: =IF($A7="","",VLOOKUP($A7,'Annex 2 Designated EHV charges'!$A:$O,7,0)) -> BISHPC | E7: =IFERROR(IF(VLOOKUP($A7,'Annex 2 Designated EHV charges'!$A:$P,9,FALSE)=0,"",VLOOKUP($A7,'Annex 2 Designated EHV charges'!$A:$P,9,FALSE)),"") -> 0.197 | F7: =IFERROR(IF(VLOOKUP($A7,'Annex 2 Designated EHV charges'!$A:$P,10,FALSE)=0,"",VLOOKUP($A7,'Annex 2 Designated EHV charges'!$A:$P,10,FALSE)),"") -> 26051.02 | G7: =IFERROR(IF(VLOOKUP($A7,'Annex 2 Designated EHV charges'!$A:$P,11,FALSE)=0,"",VLOOKUP($A7,'Annex 2 Designated EHV charges'!$A:$P,11,FALSE)),"") -> 2.58 | H7: =IFERROR(IF(VLOOKUP($A7,'Annex 2 Designated EHV charges'!$A:$P,12,FALSE)=0,"",VLOOKUP($A7,'Annex 2 Designated EHV charges'!$A:$P,12,FALSE)),"") -> 2.58
A8: {=IFERROR(INDEX('Annex 2 Designated EHV charges'!$A$11:$A$58, MATCH(0, IF(ISBLANK('Annex 2 Designated EHV charges'!$A$11:$A$58),1, COUNTIF(A$4:$A7, 'Annex 2 Designated EHV charges'!$A$11:$A$58)), 0)),"")} -> BLMBGN | B8: =IF($A8="","",VLOOKUP($A8,'Annex 2 Designated EHV charges'!$A:$O,2,0)) -> 820 | C8: =IF($A8="","",VLOOKUP($A8,'Annex 2 Designated EHV charges'!$A:$O,3,0)) -> 1200061385700;1200061385710 | D8: =IF($A8="","",VLOOKUP($A8,'Annex 2 Designated EHV charges'!$A:$O,7,0)) -> BLMBGN | E8: =IFERROR(IF(VLOOKUP($A8,'Annex 2 Designated EHV charges'!$A:$P,9,FALSE)=0,"",VLOOKUP($A8,'Annex 2 Designated EHV charges'!$A:$P,9,FALSE)),"") -> 0.23 | F8: =IFERROR(IF(VLOOKUP($A8,'Annex 2 Designated EHV charges'!$A:$P,10,FALSE)=0,"",VLOOKUP($A8,'Annex 2 Designated EHV charges'!$A:$P,10,FALSE)),"") -> 9297.23 | G8: =IFERROR(IF(VLOOKUP($A8,'Annex 2 Designated EHV charges'!$A:$P,11,FALSE)=0,"",VLOOKUP($A8,'Annex 2 Designated EHV charges'!$A:$P,11,FALSE)),"") -> 2.45 | H8: =IFERROR(IF(VLOOKUP($A8,'Annex 2 Designated EHV charges'!$A:$P,12,FALSE)=0,"",VLOOKUP($A8,'Annex 2 Designated EHV charges'!$A:$P,12,FALSE)),"") -> 2.45
A9: {=IFERROR(INDEX('Annex 2 Designated EHV charges'!$A$11:$A$58, MATCH(0, IF(ISBLANK('Annex 2 Designated EHV charges'!$A$11:$A$58),1, COUNTIF(A$4:$A8, 'Annex 2 Designated EHV charges'!$A$11:$A$58)), 0)),"")} -> BLMBGS | B9: =IF($A9="","",VLOOKUP($A9,'Annex 2 Designated EHV charges'!$A:$O,2,0)) -> 821 | C9: =IF($A9="","",VLOOKUP($A9,'Annex 2 Designated EHV charges'!$A:$O,3,0)) -> 1200061385729;1200061385738 | D9: =IF($A9="","",VLOOKUP($A9,'Annex 2 Designated EHV charges'!$A:$O,7,0)) -> BLMBGS | E9: =IFERROR(IF(VLOOKUP($A9,'Annex 2 Designated EHV charges'!$A:$P,9,FALSE)=0,"",VLOOKUP($A9,'Annex 2 Designated EHV charges'!$A:$P,9,FALSE)),"") -> 0.225 | F9: =IFERROR(IF(VLOOKUP($A9,'Annex 2 Designated EHV charges'!$A:$P,10,FALSE)=0,"",VLOOKUP($A9,'Annex 2 Designated EHV charges'!$A:$P,10,FALSE)),"") -> 1537.69 | G9: =IFERROR(IF(VLOOKUP($A9,'Annex 2 Designated EHV charges'!$A:$P,11,FALSE)=0,"",VLOOKUP($A9,'Annex 2 Designated EHV charges'!$A:$P,11,FALSE)),"") -> 1.74 | H9: =IFERROR(IF(VLOOKUP($A9,'Annex 2 Designated EHV charges'!$A:$P,12,FALSE)=0,"",VLOOKUP($A9,'Annex 2 Designated EHV charges'!$A:$P,12,FALSE)),"") -> 1.74
A10: {=IFERROR(INDEX('Annex 2 Designated EHV charges'!$A$11:$A$58, MATCH(0, IF(ISBLANK('Annex 2 Designated EHV charges'!$A$11:$A$58),1, COUNTIF(A$4:$A9, 'Annex 2 Designated EHV charges'!$A$11:$A$58)), 0)),"")} -> BRDGTE | B10: =IF($A10="","",VLOOKUP($A10,'Annex 2 Designated EHV charges'!$A:$O,2,0)) -> 805 | C10: =IF($A10="","",VLOOKUP($A10,'Annex 2 Designated EHV charges'!$A:$O,3,0)) -> 1200061148014;1200061148023 | D10: =IF($A10="","",VLOOKUP($A10,'Annex 2 Designated EHV charges'!$A:$O,7,0)) -> BRDGTE | E10: =IFERROR(IF(VLOOKUP($A10,'Annex 2 Designated EHV charges'!$A:$P,9,FALSE)=0,"",VLOOKUP($A10,'Annex 2 Designated EHV charges'!$A:$P,9,FALSE)),"") -> 0.183 | F10: =IFERROR(IF(VLOOKUP($A10,'Annex 2 Designated EHV charges'!$A:$P,10,FALSE)=0,"",VLOOKUP($A10,'Annex 2 Designated EHV charges'!$A:$P,10,FALSE)),"") -> 9297.23 | G10: =IFERROR(IF(VLOOKUP($A10,'Annex 2 Designated EHV charges'!$A:$P,11,FALSE)=0,"",VLOOKUP($A10,'Annex 2 Designated EHV charges'!$A:$P,11,FALSE)),"") -> 3.14 | H10: =IFERROR(IF(VLOOKUP($A10,'Annex 2 Designated EHV charges'!$A:$P,12,FALSE)=0,"",VLOOKUP($A10,'Annex 2 Designated EHV charges'!$A:$P,12,FALSE)),"") -> 3.14
A11: {=IFERROR(INDEX('Annex 2 Designated EHV charges'!$A$11:$A$58, MATCH(0, IF(ISBLANK('Annex 2 Designated EHV charges'!$A$11:$A$58),1, COUNTIF(A$4:$A10, 'Annex 2 Designated EHV charges'!$A$11:$A$58)), 0)),"")} -> BRKFLD | B11: =IF($A11="","",VLOOKUP($A11,'Annex 2 Designated EHV charges'!$A:$O,2,0)) -> 829 | C11: =IF($A11="","",VLOOKUP($A11,'Annex 2 Designated EHV charges'!$A:$O,3,0)) -> 1200061148060;1200061148079 | D11: =IF($A11="","",VLOOKUP($A11,'Annex 2 Designated EHV charges'!$A:$O,7,0)) -> BRKFLD | E11: =IFERROR(IF(VLOOKUP($A11,'Annex 2 Designated EHV charges'!$A:$P,9,FALSE)=0,"",VLOOKUP($A11,'Annex 2 Designated EHV charges'!$A:$P,9,FALSE)),"") -> 0.222 | F11: =IFERROR(IF(VLOOKUP($A11,'Annex 2 Designated EHV charges'!$A:$P,10,FALSE)=0,"",VLOOKUP($A11,'Annex 2 Designated EHV charges'!$A:$P,10,FALSE)),"") -> 9297.23 | G11: =IFERROR(IF(VLOOKUP($A11,'Annex 2 Designated EHV charges'!$A:$P,11,FALSE)=0,"",VLOOKUP($A11,'Annex 2 Designated EHV charges'!$A:$P,11,FALSE)),"") -> 2.45 | H11: =IFERROR(IF(VLOOKUP($A11,'Annex 2 Designated EHV charges'!$A:$P,12,FALSE)=0,"",VLOOKUP($A11,'Annex 2 Designated EHV charges'!$A:$P,12,FALSE)),"") -> 2.45
A12: {=IFERROR(INDEX('Annex 2 Designated EHV charges'!$A$11:$A$58, MATCH(0, IF(ISBLANK('Annex 2 Designated EHV charges'!$A$11:$A$58),1, COUNTIF(A$4:$A11, 'Annex 2 Designated EHV charges'!$A$11:$A$58)), 0)),"")} -> BRMLEY | B12: =IF($A12="","",VLOOKUP($A12,'Annex 2 Designated EHV charges'!$A:$O,2,0)) -> 0 | C12: =IF($A12="","",VLOOKUP($A12,'Annex 2 Designated EHV charges'!$A:$O,3,0)) -> MSID: 1630 | D12: =IF($A12="","",VLOOKUP($A12,'Annex 2 Designated EHV charges'!$A:$O,7,0)) -> BRMLEY | E12: =IFERROR(IF(VLOOKUP($A12,'Annex 2 Designated EHV charges'!$A:$P,9,FALSE)=0,"",VLOOKUP($A12,'Annex 2 Designated EHV charges'!$A:$P,9,FALSE)),"") -> 0.163 | F12: =IFERROR(IF(VLOOKUP($A12,'Annex 2 Designated EHV charges'!$A:$P,10,FALSE)=0,"",VLOOKUP($A12,'Annex 2 Designated EHV charges'!$A:$P,10,FALSE)),"") -> 53850.23 | G12: =IFERROR(IF(VLOOKUP($A12,'Annex 2 Designated EHV charges'!$A:$P,11,FALSE)=0,"",VLOOKUP($A12,'Annex 2 Designated EHV charges'!$A:$P,11,FALSE)),"") -> 5.17 | H12: =IFERROR(IF(VLOOKUP($A12,'Annex 2 Designated EHV charges'!$A:$P,12,FALSE)=0,"",VLOOKUP($A12,'Annex 2 Designated EHV charges'!$A:$P,12,FALSE)),"") -> 5.17
A13: {=IFERROR(INDEX('Annex 2 Designated EHV charges'!$A$11:$A$58, MATCH(0, IF(ISBLANK('Annex 2 Designated EHV charges'!$A$11:$A$58),1, COUNTIF(A$4:$A12, 'Annex 2 Designated EHV charges'!$A$11:$A$58)), 0)),"")} -> CRLIMM | B13: =IF($A13="","",VLOOKUP($A13,'Annex 2 Designated EHV charges'!$A:$O,2,0)) -> 812 | C13: =IF($A13="","",VLOOKUP($A13,'Annex 2 Designated EHV charges'!$A:$O,3,0)) -> 1200062090483;1200062090492 | D13: =IF($A13="","",VLOOKUP($A13,'Annex 2 Designated EHV charges'!$A:$O,7,0)) -> CRLIMM | E13: =IFERROR(IF(VLOOKUP($A13,'Annex 2 Designated EHV charges'!$A:$P,9,FALSE)=0,"",VLOOKUP($A13,'Annex 2 Designated EHV charges'!$A:$P,9,FALSE)),"") -> 0.001 | F13: =IFERROR(IF(VLOOKUP($A13,'Annex 2 Designated EHV charges'!$A:$P,10,FALSE)=0,"",VLOOKUP($A13,'Annex 2 Designated EHV charges'!$A:$P,10,FALSE)),"") -> 67664.65 | G13: =IFERROR(IF(VLOOKUP($A13,'Annex 2 Designated EHV charges'!$A:$P,11,FALSE)=0,"",VLOOKUP($A13,'Annex 2 Designated EHV charges'!$A:$P,11,FALSE)),"") -> 1.19 | H13: =IFERROR(IF(VLOOKUP($A13,'Annex 2 Designated EHV charges'!$A:$P,12,FALSE)=0,"",VLOOKUP($A13,'Annex 2 Designated EHV charges'!$A:$P,12,FALSE)),"") -> 1.19
A14: {=IFERROR(INDEX('Annex 2 Designated EHV charges'!$A$11:$A$58, MATCH(0, IF(ISBLANK('Annex 2 Designated EHV charges'!$A$11:$A$58),1, COUNTIF(A$4:$A13, 'Annex 2 Designated EHV charges'!$A$11:$A$58)), 0)),"")} -> DART11 | B14: =IF($A14="","",VLOOKUP($A14,'Annex 2 Designated EHV charges'!$A:$O,2,0)) -> 0 | C14: =IF($A14="","",VLOOKUP($A14,'Annex 2 Designated EHV charges'!$A:$O,3,0)) -> MSID: 1032 | D14: =IF($A14="","",VLOOKUP($A14,'Annex 2 Designated EHV charges'!$A:$O,7,0)) -> DART11 | E14: =IFERROR(IF(VLOOKUP($A14,'Annex 2 Designated EHV charges'!$A:$P,9,FALSE)=0,"",VLOOKUP($A14,'Annex 2 Designated EHV charges'!$A:$P,9,FALSE)),"") -> 0.362 | F14: =IFERROR(IF(VLOOKUP($A14,'Annex 2 Designated EHV charges'!$A:$P,10,FALSE)=0,"",VLOOKUP($A14,'Annex 2 Designated EHV charges'!$A:$P,10,FALSE)),"") -> 8702.12 | G14: =IFERROR(IF(VLOOKUP($A14,'Annex 2 Designated EHV charges'!$A:$P,11,FALSE)=0,"",VLOOKUP($A14,'Annex 2 Designated EHV charges'!$A:$P,11,FALSE)),"") -> 6.91 | H14: =IFERROR(IF(VLOOKUP($A14,'Annex 2 Designated EHV charges'!$A:$P,12,FALSE)=0,"",VLOOKUP($A14,'Annex 2 Designated EHV charges'!$A:$P,12,FALSE)),"") -> 6.91
A15: {=IFERROR(INDEX('Annex 2 Designated EHV charges'!$A$11:$A$58, MATCH(0, IF(ISBLANK('Annex 2 Designated EHV charges'!$A$11:$A$58),1, COUNTIF(A$4:$A14, 'Annex 2 Designated EHV charges'!$A$11:$A$58)), 0)),"")} -> DART33 | B15: =IF($A15="","",VLOOKUP($A15,'Annex 2 Designated EHV charges'!$A:$O,2,0)) -> 0 | C15: =IF($A15="","",VLOOKUP($A15,'Annex 2 Designated EHV charges'!$A:$O,3,0)) -> MSID: 1032 | D15: =IF($A15="","",VLOOKUP($A15,'Annex 2 Designated EHV charges'!$A:$O,7,0)) -> DART33 | E15: =IFERROR(IF(VLOOKUP($A15,'Annex 2 Designated EHV charges'!$A:$P,9,FALSE)=0,"",VLOOKUP($A15,'Annex 2 Designated EHV charges'!$A:$P,9,FALSE)),"") -> 0.763 | F15: =IFERROR(IF(VLOOKUP($A15,'Annex 2 Designated EHV charges'!$A:$P,10,FALSE)=0,"",VLOOKUP($A15,'Annex 2 Designated EHV charges'!$A:$P,10,FALSE)),"") -> 25455.92 | G15: =IFERROR(IF(VLOOKUP($A15,'Annex 2 Designated EHV charges'!$A:$P,11,FALSE)=0,"",VLOOKUP($A15,'Annex 2 Designated EHV charges'!$A:$P,11,FALSE)),"") -> 6.63 | H15: =IFERROR(IF(VLOOKUP($A15,'Annex 2 Designated EHV charges'!$A:$P,12,FALSE)=0,"",VLOOKUP($A15,'Annex 2 Designated EHV charges'!$A:$P,12,FALSE)),"") -> 6.63
A16: {=IFERROR(INDEX('Annex 2 Designated EHV charges'!$A$11:$A$58, MATCH(0, IF(ISBLANK('Annex 2 Designated EHV charges'!$A$11:$A$58),1, COUNTIF(A$4:$A15, 'Annex 2 Designated EHV charges'!$A$11:$A$58)), 0)),"")} -> EPNLEI | B16: =IF($A16="","",VLOOKUP($A16,'Annex 2 Designated EHV charges'!$A:$O,2,0)) -> 0 | C16: =IF($A16="","",VLOOKUP($A16,'Annex 2 Designated EHV charges'!$A:$O,3,0)) -> MSID: 1628 | D16: =IF($A16="","",VLOOKUP($A16,'Annex 2 Designated EHV charges'!$A:$O,7,0)) -> EPNLEI | E16: =IFERROR(IF(VLOOKUP($A16,'Annex 2 Designated EHV charges'!$A:$P,9,FALSE)=0,"",VLOOKUP($A16,'Annex 2 Designated EHV charges'!$A:$P,9,FALSE)),"") -> 0.022 | F16: =IFERROR(IF(VLOOKUP($A16,'Annex 2 Designated EHV charges'!$A:$P,10,FALSE)=0,"",VLOOKUP($A16,'Annex 2 Designated EHV charges'!$A:$P,10,FALSE)),"") -> 53850.23 | G16: =IFERROR(IF(VLOOKUP($A16,'Annex 2 Designated EHV charges'!$A:$P,11,FALSE)=0,"",VLOOKUP($A16,'Annex 2 Designated EHV charges'!$A:$P,11,FALSE)),"") -> 4.61 | H16: =IFERROR(IF(VLOOKUP($A16,'Annex 2 Designated EHV charges'!$A:$P,12,FALSE)=0,"",VLOOKUP($A16,'Annex 2 Designated EHV charges'!$A:$P,12,FALSE)),"") -> 4.61
... A254: {=IFERROR(INDEX('Annex 2 Designated EHV charges'!$A$11:$A$58, MATCH(0, IF(ISBLANK('Annex 2 Designated EHV charges'!$A$11:$A$58),1, COUNTIF(A$4:$A253, 'Annex 2 Designated EHV charges'!$A$11:$A$58)), 0)),"")} | B254: =IF($A254="","",VLOOKUP($A254,'Annex 2 Designated EHV charges'!$A:$O,2,0)) | C254: =IF($A254="","",VLOOKUP($A254,'Annex 2 Designated EHV charges'!$A:$O,3,0)) | D254: =IF($A254="","",VLOOKUP($A254,'Annex 2 Designated EHV charges'!$A:$O,7,0)) | E254: =IFERROR(IF(VLOOKUP($A254,'Annex 2 Designated EHV charges'!$A:$P,9,FALSE)=0,"",VLOOKUP($A254,'Annex 2 Designated EHV charges'!$A:$P,9,FALSE)),"") | F254: =IFERROR(IF(VLOOKUP($A254,'Annex 2 Designated EHV charges'!$A:$P,10,FALSE)=0,"",VLOOKUP($A254,'Annex 2 Designated EHV charges'!$A:$P,10,FALSE)),"") | G254: =IFERROR(IF(VLOOKUP($A254,'Annex 2 Designated EHV charges'!$A:$P,11,FALSE)=0,"",VLOOKUP($A254,'Annex 2 Designated EHV charges'!$A:$P,11,FALSE)),"") | H254: =IFERROR(IF(VLOOKUP($A254,'Annex 2 Designated EHV charges'!$A:$P,12,FALSE)=0,"",VLOOKUP($A254,'Annex 2 Designated EHV charges'!$A:$P,12,FALSE)),"")

Sheet Annex 2b Export
A1: Note: The list of MPANs / MSIDs provided may be incomplete; the DNO reserves the right to apply the listed charges to any other MPANs / MSIDs associated with the site. Note: This table is automatically populated based on the content of the tab entitled 'Annex 2 Designated EHV Charges'. The timebands are as shown in Annex 2.
A2: =Overview!B4& " - Effective from "&Overview!D4&" - "&Overview!E4&" Designated EHV export charges" -> London Power Networks - Effective from 1 April 2026 - Final Designated EHV export charges
A4: Export Unique Identifier | B4: LLFC/ DUoS Tariff ID | C4: Export MPANs/MSIDs | D4: Name | E4: ='Annex 2 Designated EHV charges'!M10 -> Export Super Red unit charge (p/kWh) | F4: ='Annex 2 Designated EHV charges'!N10 -> Export fixed charge (p/day) | G4: ='Annex 2 Designated EHV charges'!O10 -> Export capacity charge (p/kVA/day) | H4: ='Annex 2 Designated EHV charges'!P10 -> Export exceeded capacity charge (p/kVA/day)
A5: {=IFERROR(INDEX('Annex 2 Designated EHV charges'!$D$11:$D$58, MATCH(0, IF(ISBLANK('Annex 2 Designated EHV charges'!$D$11:$D$58),1, COUNTIF(A$4:$A4, 'Annex 2 Designated EHV charges'!$D$11:$D$58)), 0)),"")} -> NR_BOW | B5: =IF($A5="","",VLOOKUP($A5,'Annex 2 Designated EHV charges'!$D:$O,2,0)) -> 707 | C5: =IF($A5="","",VLOOKUP($A5,'Annex 2 Designated EHV charges'!$D:$O,3,0)) -> 1200060280430;1200060280459 | D5: =IF($A5="","",VLOOKUP($A5,'Annex 2 Designated EHV charges'!$D:$O,4,0)) -> NR_BOW | E5: =IFERROR(IF(VLOOKUP($A5,'Annex 2 Designated EHV charges'!$D:$P,10,FALSE)=0,"",VLOOKUP($A5,'Annex 2 Designated EHV charges'!$D:$P,10,FALSE)),"") | F5: =IFERROR(IF(VLOOKUP($A5,'Annex 2 Designated EHV charges'!$D:$P,11,FALSE)=0,"",VLOOKUP($A5,'Annex 2 Designated EHV charges'!$D:$P,11,FALSE)),"") | G5: =IFERROR(IF(VLOOKUP($A5,'Annex 2 Designated EHV charges'!$D:$P,12,FALSE)=0,"",VLOOKUP($A5,'Annex 2 Designated EHV charges'!$D:$P,12,FALSE)),"") | H5: =IFERROR(IF(VLOOKUP($A5,'Annex 2 Designated EHV charges'!$D:$P,13,FALSE)=0,"",VLOOKUP($A5,'Annex 2 Designated EHV charges'!$D:$P,13,FALSE)),"")
A6: {=IFERROR(INDEX('Annex 2 Designated EHV charges'!$D$11:$D$58, MATCH(0, IF(ISBLANK('Annex 2 Designated EHV charges'!$D$11:$D$58),1, COUNTIF(A$4:$A5, 'Annex 2 Designated EHV charges'!$D$11:$D$58)), 0)),"")} -> NR_W25 | B6: =IF($A6="","",VLOOKUP($A6,'Annex 2 Designated EHV charges'!$D:$O,2,0)) -> 703 | C6: =IF($A6="","",VLOOKUP($A6,'Annex 2 Designated EHV charges'!$D:$O,3,0)) -> 1200052486866 | D6: =IF($A6="","",VLOOKUP($A6,'Annex 2 Designated EHV charges'!$D:$O,4,0)) -> NR_W25 | E6: =IFERROR(IF(VLOOKUP($A6,'Annex 2 Designated EHV charges'!$D:$P,10,FALSE)=0,"",VLOOKUP($A6,'Annex 2 Designated EHV charges'!$D:$P,10,FALSE)),"") | F6: =IFERROR(IF(VLOOKUP($A6,'Annex 2 Designated EHV charges'!$D:$P,11,FALSE)=0,"",VLOOKUP($A6,'Annex 2 Designated EHV charges'!$D:$P,11,FALSE)),"") | G6: =IFERROR(IF(VLOOKUP($A6,'Annex 2 Designated EHV charges'!$D:$P,12,FALSE)=0,"",VLOOKUP($A6,'Annex 2 Designated EHV charges'!$D:$P,12,FALSE)),"") | H6: =IFERROR(IF(VLOOKUP($A6,'Annex 2 Designated EHV charges'!$D:$P,13,FALSE)=0,"",VLOOKUP($A6,'Annex 2 Designated EHV charges'!$D:$P,13,FALSE)),"")
A7: {=IFERROR(INDEX('Annex 2 Designated EHV charges'!$D$11:$D$58, MATCH(0, IF(ISBLANK('Annex 2 Designated EHV charges'!$D$11:$D$58),1, COUNTIF(A$4:$A6, 'Annex 2 Designated EHV charges'!$D$11:$D$58)), 0)),"")} -> NR_WES | B7: =IF($A7="","",VLOOKUP($A7,'Annex 2 Designated EHV charges'!$D:$O,2,0)) -> 716 | C7: =IF($A7="","",VLOOKUP($A7,'Annex 2 Designated EHV charges'!$D:$O,3,0)) -> 1200052486875 | D7: =IF($A7="","",VLOOKUP($A7,'Annex 2 Designated EHV charges'!$D:$O,4,0)) -> NR_WES | E7: =IFERROR(IF(VLOOKUP($A7,'Annex 2 Designated EHV charges'!$D:$P,10,FALSE)=0,"",VLOOKUP($A7,'Annex 2 Designated EHV charges'!$D:$P,10,FALSE)),"") | F7: =IFERROR(IF(VLOOKUP($A7,'Annex 2 Designated EHV charges'!$D:$P,11,FALSE)=0,"",VLOOKUP($A7,'Annex 2 Designated EHV charges'!$D:$P,11,FALSE)),"") -> 650.99 | G7: =IFERROR(IF(VLOOKUP($A7,'Annex 2 Designated EHV charges'!$D:$P,12,FALSE)=0,"",VLOOKUP($A7,'Annex 2 Designated EHV charges'!$D:$P,12,FALSE)),"") -> 0.05 | H7: =IFERROR(IF(VLOOKUP($A7,'Annex 2 Designated EHV charges'!$D:$P,13,FALSE)=0,"",VLOOKUP($A7,'Annex 2 Designated EHV charges'!$D:$P,13,FALSE)),"") -> 0.05
A8: {=IFERROR(INDEX('Annex 2 Designated EHV charges'!$D$11:$D$58, MATCH(0, IF(ISBLANK('Annex 2 Designated EHV charges'!$D$11:$D$58),1, COUNTIF(A$4:$A7, 'Annex 2 Designated EHV charges'!$D$11:$D$58)), 0)),"")} -> THAMEB | B8: =IF($A8="","",VLOOKUP($A8,'Annex 2 Designated EHV charges'!$D:$O,2,0)) -> 701 | C8: =IF($A8="","",VLOOKUP($A8,'Annex 2 Designated EHV charges'!$D:$O,3,0)) -> 1200050312030;1200050312040;1200061219394;1200050312059 | D8: =IF($A8="","",VLOOKUP($A8,'Annex 2 Designated EHV charges'!$D:$O,4,0)) -> THAMEB | E8: =IFERROR(IF(VLOOKUP($A8,'Annex 2 Designated EHV charges'!$D:$P,10,FALSE)=0,"",VLOOKUP($A8,'Annex 2 Designated EHV charges'!$D:$P,10,FALSE)),"") | F8: =IFERROR(IF(VLOOKUP($A8,'Annex 2 Designated EHV charges'!$D:$P,11,FALSE)=0,"",VLOOKUP($A8,'Annex 2 Designated EHV charges'!$D:$P,11,FALSE)),"") -> 307.97 | G8: =IFERROR(IF(VLOOKUP($A8,'Annex 2 Designated EHV charges'!$D:$P,12,FALSE)=0,"",VLOOKUP($A8,'Annex 2 Designated EHV charges'!$D:$P,12,FALSE)),"") -> 0.05 | H8: =IFERROR(IF(VLOOKUP($A8,'Annex 2 Designated EHV charges'!$D:$P,13,FALSE)=0,"",VLOOKUP($A8,'Annex 2 Designated EHV charges'!$D:$P,13,FALSE)),"") -> 0.05
A9: {=IFERROR(INDEX('Annex 2 Designated EHV charges'!$D$11:$D$58, MATCH(0, IF(ISBLANK('Annex 2 Designated EHV charges'!$D$11:$D$58),1, COUNTIF(A$4:$A8, 'Annex 2 Designated EHV charges'!$D$11:$D$58)), 0)),"")} -> THAMEC | B9: =IF($A9="","",VLOOKUP($A9,'Annex 2 Designated EHV charges'!$D:$O,2,0)) -> 702 | C9: =IF($A9="","",VLOOKUP($A9,'Annex 2 Designated EHV charges'!$D:$O,3,0)) -> 1200061171342;1200061171351 | D9: =IF($A9="","",VLOOKUP($A9,'Annex 2 Designated EHV charges'!$D:$O,4,0)) -> THAMEC | E9: =IFERROR(IF(VLOOKUP($A9,'Annex 2 Designated EHV charges'!$D:$P,10,FALSE)=0,"",VLOOKUP($A9,'Annex 2 Designated EHV charges'!$D:$P,10,FALSE)),"") | F9: =IFERROR(IF(VLOOKUP($A9,'Annex 2 Designated EHV charges'!$D:$P,11,FALSE)=0,"",VLOOKUP($A9,'Annex 2 Designated EHV charges'!$D:$P,11,FALSE)),"") -> 2430.16 | G9: =IFERROR(IF(VLOOKUP($A9,'Annex 2 Designated EHV charges'!$D:$P,12,FALSE)=0,"",VLOOKUP($A9,'Annex 2 Designated EHV charges'!$D:$P,12,FALSE)),"") -> 0.05 | H9: =IFERROR(IF(VLOOKUP($A9,'Annex 2 Designated EHV charges'!$D:$P,13,FALSE)=0,"",VLOOKUP($A9,'Annex 2 Designated EHV charges'!$D:$P,13,FALSE)),"") -> 0.05
A10: {=IFERROR(INDEX('Annex 2 Designated EHV charges'!$D$11:$D$58, MATCH(0, IF(ISBLANK('Annex 2 Designated EHV charges'!$D$11:$D$58),1, COUNTIF(A$4:$A9, 'Annex 2 Designated EHV charges'!$D$11:$D$58)), 0)),"")} -> BELVED | B10: =IF($A10="","",VLOOKUP($A10,'Annex 2 Designated EHV charges'!$D:$O,2,0)) -> 711 | C10: =IF($A10="","",VLOOKUP($A10,'Annex 2 Designated EHV charges'!$D:$O,3,0)) -> 1200060787118 | D10: =IF($A10="","",VLOOKUP($A10,'Annex 2 Designated EHV charges'!$D:$O,4,0)) -> BELVED | E10: =IFERROR(IF(VLOOKUP($A10,'Annex 2 Designated EHV charges'!$D:$P,10,FALSE)=0,"",VLOOKUP($A10,'Annex 2 Designated EHV charges'!$D:$P,10,FALSE)),"") | F10: =IFERROR(IF(VLOOKUP($A10,'Annex 2 Designated EHV charges'!$D:$P,11,FALSE)=0,"",VLOOKUP($A10,'Annex 2 Designated EHV charges'!$D:$P,11,FALSE)),"") -> 1064.58 | G10: =IFERROR(IF(VLOOKUP($A10,'Annex 2 Designated EHV charges'!$D:$P,12,FALSE)=0,"",VLOOKUP($A10,'Annex 2 Designated EHV charges'!$D:$P,12,FALSE)),"") -> 0.05 | H10: =IFERROR(IF(VLOOKUP($A10,'Annex 2 Designated EHV charges'!$D:$P,13,FALSE)=0,"",VLOOKUP($A10,'Annex 2 Designated EHV charges'!$D:$P,13,FALSE)),"") -> 0.05
A11: {=IFERROR(INDEX('Annex 2 Designated EHV charges'!$D$11:$D$58, MATCH(0, IF(ISBLANK('Annex 2 Designated EHV charges'!$D$11:$D$58),1, COUNTIF(A$4:$A10, 'Annex 2 Designated EHV charges'!$D$11:$D$58)), 0)),"")} -> SELCHP | B11: =IF($A11="","",VLOOKUP($A11,'Annex 2 Designated EHV charges'!$D:$O,2,0)) -> 730 | C11: =IF($A11="","",VLOOKUP($A11,'Annex 2 Designated EHV charges'!$D:$O,3,0)) -> 1200010258304 | D11: =IF($A11="","",VLOOKUP($A11,'Annex 2 Designated EHV charges'!$D:$O,4,0)) -> SELCHP | E11: =IFERROR(IF(VLOOKUP($A11,'Annex 2 Designated EHV charges'!$D:$P,10,FALSE)=0,"",VLOOKUP($A11,'Annex 2 Designated EHV charges'!$D:$P,10,FALSE)),"") -> -0.2 | F11: =IFERROR(IF(VLOOKUP($A11,'Annex 2 Designated EHV charges'!$D:$P,11,FALSE)=0,"",VLOOKUP($A11,'Annex 2 Designated EHV charges'!$D:$P,11,FALSE)),"") -> 5275.92 | G11: =IFERROR(IF(VLOOKUP($A11,'Annex 2 Designated EHV charges'!$D:$P,12,FALSE)=0,"",VLOOKUP($A11,'Annex 2 Designated EHV charges'!$D:$P,12,FALSE)),"") -> 0.05 | H11: =IFERROR(IF(VLOOKUP($A11,'Annex 2 Designated EHV charges'!$D:$P,13,FALSE)=0,"",VLOOKUP($A11,'Annex 2 Designated EHV charges'!$D:$P,13,FALSE)),"") -> 0.05
A12: {=IFERROR(INDEX('Annex 2 Designated EHV charges'!$D$11:$D$58, MATCH(0, IF(ISBLANK('Annex 2 Designated EHV charges'!$D$11:$D$58),1, COUNTIF(A$4:$A11, 'Annex 2 Designated EHV charges'!$D$11:$D$58)), 0)),"")} -> TLRSLN | B12: =IF($A12="","",VLOOKUP($A12,'Annex 2 Designated EHV charges'!$D:$O,2,0)) -> 0 | C12: =IF($A12="","",VLOOKUP($A12,'Annex 2 Designated EHV charges'!$D:$O,3,0)) -> MSID: 5538 | D12: =IF($A12="","",VLOOKUP($A12,'Annex 2 Designated EHV charges'!$D:$O,4,0)) -> TLRSLN | E12: =IFERROR(IF(VLOOKUP($A12,'Annex 2 Designated EHV charges'!$D:$P,10,FALSE)=0,"",VLOOKUP($A12,'Annex 2 Designated EHV charges'!$D:$P,10,FALSE)),"") -> -0.026 | F12: =IFERROR(IF(VLOOKUP($A12,'Annex 2 Designated EHV charges'!$D:$P,11,FALSE)=0,"",VLOOKUP($A12,'Annex 2 Designated EHV charges'!$D:$P,11,FALSE)),"") | G12: =IFERROR(IF(VLOOKUP($A12,'Annex 2 Designated EHV charges'!$D:$P,12,FALSE)=0,"",VLOOKUP($A12,'Annex 2 Designated EHV charges'!$D:$P,12,FALSE)),"") -> 0.05 | H12: =IFERROR(IF(VLOOKUP($A12,'Annex 2 Designated EHV charges'!$D:$P,13,FALSE)=0,"",VLOOKUP($A12,'Annex 2 Designated EHV charges'!$D:$P,13,FALSE)),"") -> 0.05
A13: {=IFERROR(INDEX('Annex 2 Designated EHV charges'!$D$11:$D$58, MATCH(0, IF(ISBLANK('Annex 2 Designated EHV charges'!$D$11:$D$58),1, COUNTIF(A$4:$A12, 'Annex 2 Designated EHV charges'!$D$11:$D$58)), 0)),"")} | B13: =IF($A13="","",VLOOKUP($A13,'Annex 2 Designated EHV charges'!$D:$O,2,0)) | C13: =IF($A13="","",VLOOKUP($A13,'Annex 2 Designated EHV charges'!$D:$O,3,0)) | D13: =IF($A13="","",VLOOKUP($A13,'Annex 2 Designated EHV charges'!$D:$O,4,0)) | E13: =IFERROR(IF(VLOOKUP($A13,'Annex 2 Designated EHV charges'!$D:$P,10,FALSE)=0,"",VLOOKUP($A13,'Annex 2 Designated EHV charges'!$D:$P,10,FALSE)),"") | F13: =IFERROR(IF(VLOOKUP($A13,'Annex 2 Designated EHV charges'!$D:$P,11,FALSE)=0,"",VLOOKUP($A13,'Annex 2 Designated EHV charges'!$D:$P,11,FALSE)),"") | G13: =IFERROR(IF(VLOOKUP($A13,'Annex 2 Designated EHV charges'!$D:$P,12,FALSE)=0,"",VLOOKUP($A13,'Annex 2 Designated EHV charges'!$D:$P,12,FALSE)),"") | H13: =IFERROR(IF(VLOOKUP($A13,'Annex 2 Designated EHV charges'!$D:$P,13,FALSE)=0,"",VLOOKUP($A13,'Annex 2 Designated EHV charges'!$D:$P,13,FALSE)),"")
A14: {=IFERROR(INDEX('Annex 2 Designated EHV charges'!$D$11:$D$58, MATCH(0, IF(ISBLANK('Annex 2 Designated EHV charges'!$D$11:$D$58),1, COUNTIF(A$4:$A13, 'Annex 2 Designated EHV charges'!$D$11:$D$58)), 0)),"")} | B14: =IF($A14="","",VLOOKUP($A14,'Annex 2 Designated EHV charges'!$D:$O,2,0)) | C14: =IF($A14="","",VLOOKUP($A14,'Annex 2 Designated EHV charges'!$D:$O,3,0)) | D14: =IF($A14="","",VLOOKUP($A14,'Annex 2 Designated EHV charges'!$D:$O,4,0)) | E14: =IFERROR(IF(VLOOKUP($A14,'Annex 2 Designated EHV charges'!$D:$P,10,FALSE)=0,"",VLOOKUP($A14,'Annex 2 Designated EHV charges'!$D:$P,10,FALSE)),"") | F14: =IFERROR(IF(VLOOKUP($A14,'Annex 2 Designated EHV charges'!$D:$P,11,FALSE)=0,"",VLOOKUP($A14,'Annex 2 Designated EHV charges'!$D:$P,11,FALSE)),"") | G14: =IFERROR(IF(VLOOKUP($A14,'Annex 2 Designated EHV charges'!$D:$P,12,FALSE)=0,"",VLOOKUP($A14,'Annex 2 Designated EHV charges'!$D:$P,12,FALSE)),"") | H14: =IFERROR(IF(VLOOKUP($A14,'Annex 2 Designated EHV charges'!$D:$P,13,FALSE)=0,"",VLOOKUP($A14,'Annex 2 Designated EHV charges'!$D:$P,13,FALSE)),"")
A15: {=IFERROR(INDEX('Annex 2 Designated EHV charges'!$D$11:$D$58, MATCH(0, IF(ISBLANK('Annex 2 Designated EHV charges'!$D$11:$D$58),1, COUNTIF(A$4:$A14, 'Annex 2 Designated EHV charges'!$D$11:$D$58)), 0)),"")} | B15: =IF($A15="","",VLOOKUP($A15,'Annex 2 Designated EHV charges'!$D:$O,2,0)) | C15: =IF($A15="","",VLOOKUP($A15,'Annex 2 Designated EHV charges'!$D:$O,3,0)) | D15: =IF($A15="","",VLOOKUP($A15,'Annex 2 Designated EHV charges'!$D:$O,4,0)) | E15: =IFERROR(IF(VLOOKUP($A15,'Annex 2 Designated EHV charges'!$D:$P,10,FALSE)=0,"",VLOOKUP($A15,'Annex 2 Designated EHV charges'!$D:$P,10,FALSE)),"") | F15: =IFERROR(IF(VLOOKUP($A15,'Annex 2 Designated EHV charges'!$D:$P,11,FALSE)=0,"",VLOOKUP($A15,'Annex 2 Designated EHV charges'!$D:$P,11,FALSE)),"") | G15: =IFERROR(IF(VLOOKUP($A15,'Annex 2 Designated EHV charges'!$D:$P,12,FALSE)=0,"",VLOOKUP($A15,'Annex 2 Designated EHV charges'!$D:$P,12,FALSE)),"") | H15: =IFERROR(IF(VLOOKUP($A15,'Annex 2 Designated EHV charges'!$D:$P,13,FALSE)=0,"",VLOOKUP($A15,'Annex 2 Designated EHV charges'!$D:$P,13,FALSE)),"")
A16: {=IFERROR(INDEX('Annex 2 Designated EHV charges'!$D$11:$D$58, MATCH(0, IF(ISBLANK('Annex 2 Designated EHV charges'!$D$11:$D$58),1, COUNTIF(A$4:$A15, 'Annex 2 Designated EHV charges'!$D$11:$D$58)), 0)),"")} | B16: =IF($A16="","",VLOOKUP($A16,'Annex 2 Designated EHV charges'!$D:$O,2,0)) | C16: =IF($A16="","",VLOOKUP($A16,'Annex 2 Designated EHV charges'!$D:$O,3,0)) | D16: =IF($A16="","",VLOOKUP($A16,'Annex 2 Designated EHV charges'!$D:$O,4,0)) | E16: =IFERROR(IF(VLOOKUP($A16,'Annex 2 Designated EHV charges'!$D:$P,10,FALSE)=0,"",VLOOKUP($A16,'Annex 2 Designated EHV charges'!$D:$P,10,FALSE)),"") | F16: =IFERROR(IF(VLOOKUP($A16,'Annex 2 Designated EHV charges'!$D:$P,11,FALSE)=0,"",VLOOKUP($A16,'Annex 2 Designated EHV charges'!$D:$P,11,FALSE)),"") | G16: =IFERROR(IF(VLOOKUP($A16,'Annex 2 Designated EHV charges'!$D:$P,12,FALSE)=0,"",VLOOKUP($A16,'Annex 2 Designated EHV charges'!$D:$P,12,FALSE)),"") | H16: =IFERROR(IF(VLOOKUP($A16,'Annex 2 Designated EHV charges'!$D:$P,13,FALSE)=0,"",VLOOKUP($A16,'Annex 2 Designated EHV charges'!$D:$P,13,FALSE)),"")
... A254: {=IFERROR(INDEX('Annex 2 Designated EHV charges'!$D$11:$D$58, MATCH(0, IF(ISBLANK('Annex 2 Designated EHV charges'!$D$11:$D$58),1, COUNTIF(A$4:$A253, 'Annex 2 Designated EHV charges'!$D$11:$D$58)), 0)),"")} | B254: =IF($A254="","",VLOOKUP($A254,'Annex 2 Designated EHV charges'!$D:$O,2,0)) | C254: =IF($A254="","",VLOOKUP($A254,'Annex 2 Designated EHV charges'!$D:$O,3,0)) | D254: =IF($A254="","",VLOOKUP($A254,'Annex 2 Designated EHV charges'!$D:$O,4,0)) | E254: =IFERROR(IF(VLOOKUP($A254,'Annex 2 Designated EHV charges'!$D:$P,10,FALSE)=0,"",VLOOKUP($A254,'Annex 2 Designated EHV charges'!$D:$P,10,FALSE)),"") | F254: =IFERROR(IF(VLOOKUP($A254,'Annex 2 Designated EHV charges'!$D:$P,11,FALSE)=0,"",VLOOKUP($A254,'Annex 2 Designated EHV charges'!$D:$P,11,FALSE)),"") | G254: =IFERROR(IF(VLOOKUP($A254,'Annex 2 Designated EHV charges'!$D:$P,12,FALSE)=0,"",VLOOKUP($A254,'Annex 2 Designated EHV charges'!$D:$P,12,FALSE)),"") | H254: =IFERROR(IF(VLOOKUP($A254,'Annex 2 Designated EHV charges'!$D:$P,13,FALSE)=0,"",VLOOKUP($A254,'Annex 2 Designated EHV charges'!$D:$P,13,FALSE)),"")

Sheet Annex 3 Preserved charges
A1: Back to Overview
A2: =Overview!B4& " - Effective from "&Overview!D4&" - "&Overview!E4&" LV and HV tariffs" -> London Power Networks - Effective from 1 April 2026 - Final LV and HV tariffs
A4: Supercustomer preserved charges/additional LLFCs/ DUoS Tariff IDs
B5: Closed LLFCs/ DUoS Tariff IDs | C5: PCs | D5: Red/black unit charge p/kWh | E5: Amber/yellow unit charge p/kWh | F5: Green unit charge p/kWh | G5: Fixed charge p/MPAN/day
A7: Notes: | B7: London Power Networks has no Preserved NHH Tariffs/Additional LLFCs/DUoS Tariff IDs
A12: Site Specific preserved charges/additional LLFCs/ DUoS Tariff IDs
B13: Closed LLFCs/ DUoS Tariff IDs | C13: PCs | D13: Red/black unit charge p/kWh | E13: Amber/yellow unit charge p/kWh | F13: Green unit charge p/kWh | G13: Fixed charge p/MPAN/day | H13: Capacity charge p/kVA/day | I13: Exceeded capacity charge p/kVA/day | J13: Reactive power charge p/kVArh
A15: Notes: | B15: London Power Networks has no Preserved HH Tariffs/Additional LLFCs/DUoS Tariff IDs

Sheet Annex 4 LDNO charges
A1: Back to Overview
A2: =Overview!B4& " - Effective from "&Overview!D4&" - "&Overview!E4&" LDNO tariffs" -> London Power Networks - Effective from 1 April 2026 - Final LDNO tariffs
A4: Time Bands for LV and HV Designated Properties | F4: Time Bands for Unmetered Properties
A5: Time periods | B5: Red Time Band | C5: Amber Time Band | D5: Green Time Band | H5: Black Time Band | I5: Yellow Time Band | J5: Green Time Band
A6: Monday to Friday (Including Bank Holidays) All Year | B6: 11:00 - 14:00 16:00 - 19:00 | C6: 07:00 - 11:00 14:00 - 16:00 19:00 - 23:00 | D6: 00:00 - 07:00 23:00 - 24:00 | F6: Monday to Friday (Including Bank Holidays) June to August Inclusive | H6: 11:00 - 14:00 | I6: 07:00 - 11:00 14:00 - 23:00 | J6: 00:00 - 07:00 23:00 - 24:00
A7: Saturday and Sunday All Year | D7: 00:00 - 24:00 | F7: Monday to Friday (Including Bank Holidays) November to February Inclusive | H7: 16:00 - 19:00 | I7: 07:00 - 16:00 19:00 - 23:00 | J7: 00:00 - 07:00 23:00 - 24:00
A8: Notes | B8: All the above times are in UK Clock time | F8: Monday to Friday (Including Bank Holidays) March, April, May and September, October | I8: 07:00 - 23:00 | J8: 00:00 - 07:00 23:00 - 24:00
F9: Saturday and Sunday All year | J9: 00:00 - 24:00
F10: Notes | H10: All the above times are in UK Clock time
A13: Tariff name | B13: Unique billing identifier | C13: PCs | D13: Red/black unit charge p/kWh | E13: Amber/yellow unit charge p/kWh | F13: Green unit charge p/kWh | G13: Fixed charge p/MPAN/day | H13: Capacity charge p/kVA/day | I13: Exceeded capacity charge p/kVA/day | J13: Reactive power charge p/kVArh
A14: LDNO LV: Domestic Aggregated or CT with Residual | B14: A00 | C14: 0, 1, 2 | D14: 7.798 | E14: 0.35 | F14: 0 | G14: 0
A15: LDNO LV: Domestic Aggregated (related MPAN) | B15: B00 | C15: 2 | D15: 7.992 | E15: 0.545 | F15: 0.046
A16: LDNO LV: Non-Domestic Aggregated or CT No Residual | B16: C00 | C16: 0, 3, 4, 5-8 | D16: 7.074 | E16: 0.482 | F16: 0.04 | G16: 4.2
A17: LDNO LV: Non-Domestic Aggregated or CT Band 1 | B17: C01 | C17: 0, 3, 4, 5-8 | D17: 6.974 | E17: 0.383 | F17: 0 | G17: 0
A18: LDNO LV: Non-Domestic Aggregated or CT Band 2 | B18: C02 | C18: 0, 3, 4, 5-8 | D18: 6.097 | E18: 0 | F18: 0 | G18: 0
A19: LDNO LV: Non-Domestic Aggregated or CT Band 3 | B19: C03 | C19: 0, 3, 4, 5-8 | D19: 5.721 | E19: 0 | F19: 0 | G19: 0
A20: LDNO LV: Non-Domestic Aggregated or CT Band 4 | B20: C04 | C20: 0, 3, 4, 5-8 | D20: 5.466 | E20: 0 | F20: 0 | G20: 0
A21: LDNO LV: Non-Domestic Aggregated (related MPAN) | B21: D00 | C21: 4 | D21: 7.074 | E21: 0.482 | F21: 0.04
A22: LDNO LV: LV Site Specific No Residual | B22: E00 | C22: 0 | D22: 5.307 | E22: 0.375 | F22: 0.025 | G22: 10.21 | H22: 5.18 | I22: 5.18 | J22: 0.373
A23: LDNO LV: LV Site Specific Band 1 | B23: E01 | C23: 0 | D23: 3.182 | E23: 0.116 | F23: 0.017 | G23: 1.68 | H23: 5.18 | I23: 5.18 | J23: 0.373
A24: LDNO LV: LV Site Specific Band 2 | B24: E02 | C24: 0 | D24: 3.142 | E24: 0.116 | F24: 0.017 | G24: 1.68 | H24: 5.18 | I24: 5.18 | J24: 0.373
A25: LDNO LV: LV Site Specific Band 3 | B25: E03 | C25: 0 | D25: 3.097 | E25: 0.116 | F25: 0.017 | G25: 1.68 | H25: 5.18 | I25: 5.18 | J25: 0.373
A26: LDNO LV: LV Site Specific Band 4 | B26: E04 | C26: 0 | D26: 3.048 | E26: 0.116 | F26: 0.017 | G26: 1.68 | H26: 5.18 | I26: 5.18 | J26: 0.373
A27: LDNO LV: Unmetered Supplies | B27: U00 | C27: 0, 1 or 8 | D27: 30.006 | E27: 1.916 | F27: 0.318
A28: LDNO LV: LV Generation Aggregated | B28: F00 | C28: 0, 8 | D28: -7.578 | E28: -0.516 | F28: -0.043 | G28: 0
A29: LDNO LV: LV Generation Site Specific | B29: G00 | C29: 0 | D29: -7.578 | E29: -0.516 | F29: -0.043 | G29: 0 | J29: 0.48
A30: LDNO HV: Domestic Aggregated or CT with Residual | B30: A10 | C30: 0, 1, 2 | D30: 5.959 | E30: 0.268 | F30: 0 | G30: 0
A31: LDNO HV: Domestic Aggregated (Related MPAN) | B31: B10 | C31: 2 | D31: 6.107 | E31: 0.416 | F31: 0.035
A32: LDNO HV: Non-Domestic Aggregated or CT No Residual | B32: C10 | C32: 0, 3, 4, 5-8 | D32: 5.406 | E32: 0.368 | F32: 0.031 | G32: 3.21
A33: LDNO HV: Non-Domestic Aggregated or CT Band 1 | B33: C11 | C33: 0, 3, 4, 5-8 | D33: 5.33 | E33: 0.292 | F33: 0 | G33: 0
A34: LDNO HV: Non-Domestic Aggregated or CT Band 2 | B34: C12 | C34: 0, 3, 4, 5-8 | D34: 4.659 | E34: 0 | F34: 0 | G34: 0
A35: LDNO HV: Non-Domestic Aggregated or CT Band 3 | B35: C13 | C35: 0, 3, 4, 5-8 | D35: 4.372 | E35: 0 | F35: 0 | G35: 0
A36: LDNO HV: Non-Domestic Aggregated or CT Band 4 | B36: C14 | C36: 0, 3, 4, 5-8 | D36: 4.177 | E36: 0 | F36: 0 | G36: 0
A37: LDNO HV: Non-Domestic Aggregated (related MPAN) | B37: D10 | C37: 4 | D37: 5.406 | E37: 0.368 | F37: 0.031
A38: LDNO HV: LV Site Specific No Residual | B38: E10 | C38: 0 | D38: 4.056 | E38: 0.286 | F38: 0.019 | G38: 7.8 | H38: 3.96 | I38: 3.96 | J38: 0.285
A39: LDNO HV: LV Site Specific Band 1 | B39: E11 | C39: 0 | D39: 2.431 | E39: 0.089 | F39: 0.013 | G39: 1.29 | H39: 3.96 | I39: 3.96 | J39: 0.285
A40: LDNO HV: LV Site Specific Band 2 | B40: E12 | C40: 0 | D40: 2.401 | E40: 0.089 | F40: 0.013 | G40: 1.29 | H40: 3.96 | I40: 3.96 | J40: 0.285
A41: LDNO HV: LV Site Specific Band 3 | B41: E13 | C41: 0 | D41: 2.367 | E41: 0.089 | F41: 0.013 | G41: 1.29 | H41: 3.96 | I41: 3.96 | J41: 0.285
A42: LDNO HV: LV Site Specific Band 4 | B42: E14 | C42: 0 | D42: 2.329 | E42: 0.089 | F42: 0.013 | G42: 1.29 | H42: 3.96 | I42: 3.96 | J42: 0.285
A43: LDNO HV: LV Sub Site Specific No Residual | B43: J10 | C43: 0 | D43: 3.673 | E43: 0.281 | F43: 0.009 | G43: 9.24 | H43: 6.94 | I43: 6.94 | J43: 0.251
...

Sheet Annex 5 LLFs
A1: Back to Overview
A2: These line loss factors are illustrative based on the latest calculated values and are published in good faith. However, the line loss factors that are approved by the BSC Panel for the applicable year and consequently published on the Elexon website will take precedence and will be used in Settlement if they differ from these values.
A3: =Overview!B4& " - Illustrative LLFs for year beginning "&Overview!D4 -> London Power Networks - Illustrative LLFs for year beginning 1 April 2026
A5: Time periods | C5: Period 1 | D5: Period 2 | E5: Period 3 | F5: Period 4 | G5: Period 5
C6: Winter Peak | D6: Summer Peak | E6: Winter Shoulder | F6: Night | G6: Other
A7: Monday to Friday November to February | C7: 16:00 - 20:00 | E7: 07:00 - 16:00
A8: Monday to Friday June to August | D8: 07:00 - 20:00
A9: Monday to Friday March | E9: 07:00 - 20:00
A10: All Year | F10: 00:00 - 07:00 | G10: All Other Times
A11: Notes | C11: All the above times are in UK Clock time
A13: Generic demand and generation LLFs
A14: Metered voltage, respective periods and associated LLFCs/DUoS Tariff IDs
A15: Metered voltage | B15: Period 1 | C15: Period 2 | D15: Period 3 | E15: Period 4 | F15: Period 5 | G15: Associated LLFC/DUoS Tariff ID
A16: Low-voltage network | B16: 1.123 | C16: 1.095 | D16: 1.113 | E16: 1.078 | F16: 1.097 | G16: 1, 2, 70, 71, 72, 73, 74, 199, 200, 201, 202, 203, 204, 350, 420, 421, 422, 423, 424, 425, 426, 427, 428, 429, 430, 431, 432, 433, 434, 435, 902, 932, 980, 981, N01, N02, N03, N04
A17: Low-voltage substation | B17: 1.046 | C17: 1.04 | D17: 1.045 | E17: 1.036 | F17: 1.04 | G17: 80, 81, 82, 83, 84, 984, 985
A18: High-voltage network | B18: 1.036 | C18: 1.03 | D18: 1.034 | E18: 1.024 | F18: 1.029 | G18: 90, 91, 92, 93, 94, 988, 989
A19: High-voltage substation | B19: 1.024 | C19: 1.022 | D19: 1.023 | E19: 1.02 | F19: 1.021 | G19: 771, 791, 792
A20: 33kV generic | B20: 1.017 | C20: 1.015 | D20: 1.017 | E20: 1.014 | F20: 1.015 | G20: 796, 797
A21: 132kV generic | B21: 1.003 | C21: 1.003 | D21: 1.003 | E21: 1.002 | F21: 1.002 | G21: 798, 799
A23: EHV site specific LLFs
A24: Demand
A25: Site | B25: Period 1 | C25: Period 2 | D25: Period 3 | E25: Period 4 | F25: Period 5 | G25: Associated LLFC/DUoS Tariff ID
A26: FENCHS - Import | B26: 1.004 | C26: 1.004 | D26: 1.004 | E26: 1.003 | F26: 1.004 | G26: 800
A27: LU_CHA - Import | B27: 1.006 | C27: 1.006 | D27: 1.006 | E27: 1.006 | F27: 1.006 | G27: 801
A28: THAMEC - Import | B28: 1.001 | C28: 1.001 | D28: 1.001 | E28: 1.001 | F28: 1.001 | G28: 802
A29: VOLTDC - Import | B29: 1.002 | C29: 1.002 | D29: 1.002 | E29: 1.002 | F29: 1.002 | G29: 803
A30: LU_HOX - Import | B30: 1.017 | C30: 1.015 | D30: 1.017 | E30: 1.014 | F30: 1.015 | G30: 804
A31: BRDGTE - Import | B31: 1.003 | C31: 1.004 | D31: 1.004 | E31: 1.003 | F31: 1.003 | G31: 805
A32: MRKLNE - Import | B32: 1.007 | C32: 1.006 | D32: 1.007 | E32: 1.005 | F32: 1.006 | G32: 806
A33: NR_BOW - Import | B33: 1.011 | C33: 1.011 | D33: 1.011 | E33: 1.01 | F33: 1.011 | G33: 807
A34: LEDNHS - Import | B34: 1.003 | C34: 1.003 | D34: 1.003 | E34: 1.003 | F34: 1.003 | G34: 808
A35: TELEHW - Import | B35: 1 | C35: 1 | D35: 1 | E35: 1 | F35: 1 | G35: 809
A36: 22BSHP - Import | B36: 1.004 | C36: 1.004 | D36: 1.005 | E36: 1.004 | F36: 1.004 | G36: 810
A37: BISHPC - Import | B37: 1.013 | C37: 1.011 | D37: 1.012 | E37: 1.006 | F37: 1.009 | G37: 811
... A64: BELVE2 - Import | B64: 1.003 | C64: 1.003 | D64: 1.003 | E64: 1.002 | F64: 1.002 | G64: 865
A66: EHV site specific LLFs
A67: Generation
A68: Site | B68: Period 1 | C68: Period 2 | D68: Period 3 | E68: Period 4 | F68: Period 5 | G68: Associated LLFC/DUoS Tariff ID
A69: THAMEB - Export | B69: 0.999 | C69: 0.999 | D69: 0.999 | E69: 0.999 | F69: 0.999 | G69: 701
A70: THAMEC - Export | B70: 1.017 | C70: 1.015 | D70: 1.017 | E70: 1.014 | F70: 1.015 | G70: 702
...

Sheet Annex 6 New or Amended EHV
A1: Back to Overview | D1: Note: The DNO reserves the right to apply the listed charges to any other MPANs/MSIDs associated with the site. This includes reallocating charges to a traded MPAN at the same site where another MPAN has been disconnected or de-energised. If sites appear in both Annex 2 and Annex 6, the charges in Annex 6 take precedence. Where an existing Designated EHV Property is modified and energised in the charging year, we may revise the EDCM charges for the modified Designated EHV Property.
A2: Annex 6 - Charges for New or Amended Designated EHV Properties
A4: =Overview!B4& " - Effective from "&Overview!D4&" - "&Overview!E4&" new designated EHV charges" -> London Power Networks - Effective from 1 April 2026 - Final new designated EHV charges
A5: Effective from date | B5: Import Unique Identifier | C5: LLFC/ DUoS Tariff ID | D5: Import MPANs/MSIDs | E5: Export Unique Identifier | F5: LLFC/ DUoS Tariff ID | G5: Export MPANs/MSIDs | H5: Name | I5: Residual Charging Band | J5: ='Annex 2 Designated EHV charges'!I10 -> Import Super Red unit charge (p/kWh) | K5: ='Annex 2 Designated EHV charges'!J10 -> Import fixed charge (p/day) | L5: ='Annex 2 Designated EHV charges'!K10 -> Import capacity charge (p/kVA/day) | M5: ='Annex 2 Designated EHV charges'!L10 -> Import exceeded capacity charge (p/kVA/day) | N5: ='Annex 2 Designated EHV charges'!M10 -> Export Super Red unit charge (p/kWh) | O5: ='Annex 2 Designated EHV charges'!N10 -> Export fixed charge (p/day) | P5: ='Annex 2 Designated EHV charges'!O10 -> Export capacity charge (p/kVA/day) | Q5: ='Annex 2 Designated EHV charges'!P10 -> Export exceeded capacity charge (p/kVA/day)
A6: 01/04/2026 | B6: BELVE2 | C6: 865 | D6: 1200063126740 | H6: BELVE2 | J6: 0 | K6: 30234.64 | L6: 1 | M6: 1
A7: 01/04/2026 | B7: THAMEB | C7: 828 | D7: 1200010146153;1200010146162;1200010146171;1200061197703 | E7: THAMEB | F7: 701 | G7: 1200050312030;1200050312040;1200061219394;1200050312059 | H7: THAMEB | I7: 4 | J7: 0 | K7: 57980.78 | L7: 0.73 | M7: 0.73 | N7: 0 | O7: 1564.57 | P7: 0.05 | Q7: 0.05
A8: 01/04/2026 | B8: 22BSHP | C8: 810 | D8: 1200062355497;1200062355502 | H8: 22BSHP | I8: 3 | J8: 0.214 | K8: 22184.63 | L8: 2.44 | M8: 2.44
A9: 01/04/2026 | B9: BLMBGS | C9: 821 | D9: 1200061385729;1200061385738 | H9: BLMBGS | I9: 2 | J9: 0.225 | K9: 8269.91 | L9: 1.74 | M9: 1.74
A10: 01/04/2026 | B10: LU_ACT | D10: MSID: 1631 | H10: LU_ACT | I10: 3 | J10: 0 | K10: 21983.75 | L10: 2.2 | M10: 2.2
A11: 01/04/2026 | B11: THAMEC | C11: 802 | D11: 1200061171324;1200061171333 | E11: THAMEC | F11: 702 | G11: 1200061171342;1200061171351 | H11: THAMEC | I11: 4 | J11: 0 | K11: 58627.32 | L11: 1.67 | M11: 1.67 | N11: 0 | O11: 1117.19 | P11: 0.05 | Q11: 0.05
A17: =Overview!B4& " - Effective from "&Overview!D4&" - "&Overview!E4&" new designated EHV line loss factors" -> London Power Networks - Effective from 1 April 2026 - Final new designated EHV line loss factors
