Workbook
Name OLE_LINK1: 'Annex 3 Preserved charges'!#REF!

Sheet Overview
A2: Company and Licence name, charging year, effective from, status
B3: Company and Licence name | C3: Year | D3: Effective From | E3: Status
A4: Company and Licence name, charging year, effective from, status | B4: Eastern Power Networks | C4: 2026/27 | D4: 1 April 2026 | E4: Final
A6: List of data tables in this workbook
A7: Worksheet | B7: Information
A8: Annex 1 LV, HV and Unmetered Supplies charges | B8: Annex 1 contains the charges to LV and HV Designated Properties and Unmetered Supplies.
A9: Annex 2 Designated EHV charges | B9: ="Annex 2 contains the charges to Designated EHV Properties and charges applied to LDNOs with Designated EHV Properties/end-users embedded in networks within the " &B4 &" Licence area." -> Annex 2 contains the charges to Designated EHV Properties and charges applied to LDNOs with Designated EHV Properties/end-users embedded in networks within the Eastern Power Networks Licence area.
A10: Annex 3 Preserved charges | B10: Annex 3 contains details of any preserved and additional charges that are valid at this time.
A11: Annex 4 LDNO charges | B11: ="Annex 4 contains charges that are levied on the owner of an embedded network within the "&B4&" Licence area. "&"Electricity suppliers and consumers who have properties connected to an embedded network should contact the embedded network owner to determine their distribution charges."&" The charges listed in this table are not payable by domestic consumers, business consumers or electricity suppliers." -> Annex 4 contains charges that are levied on the owner of an embedded network within the Eastern Power Networks Licence area. Electricity suppliers and consumers who have properties connected to an embedded network should contact the embedded network owner to determine their distribution charges. The charges listed in this table are not payable by domestic consumers, business consumers or electricity suppliers.
A12: Annex 5 LLFs | B12: Annex 5 has been intentionally left blank as this charging statement is published a complete year before the LLFs have been audited. The line loss factors that are approved by the BSC Panel for the applicable year and consequently published on the Elexon website will take precedence and be used in Settlement. This annex will be re-published with these values once they are available.
A13: Annex 6 Charges for New or Amended Designated EHV Properties | B13: ="Annex 6 contains the charges for new or amended Designated EHV Properties and charges applied to LDNOs with new or amended Designated EHV Properties/end-users embedded in networks within the " &B4 &" Licence area." -> Annex 6 contains the charges for new or amended Designated EHV Properties and charges applied to LDNOs with new or amended Designated EHV Properties/end-users embedded in networks within the Eastern Power Networks Licence area.
A14: Annex 7 Fixed adders for Supplier of Last Resort and Eligible Bad Debt pass-through costs | B14: Annex 7 contains the fixed adders to recover Supplier of Last Resort and Eligible Bad Debt pass-through costs. The Excess Supplier of Last Resort fixed adder relates to an increase to previously published charges only.
A15: Nodal prices | B15: Contains the underlying nodal costs used to calculate the current EDCM charges.
A16: SSC unit rate lookup | B16: Contains a mapping of Standard Settlement Configurations to common decodings
A17: Residual Charging Bandings | B17: Contains the four Residual charging band allocation for Customers
A18: TNUoS Mapping | B18: Contains a mapping of DUoS Tariffs to TNUoS Site Charging Bands
A19: Charge calculator | B19: Charge calculator is a tool to help you estimate your distribution charges using current consumption data and forecast consumption data.
A21: Notes to users of this spreadsheet
A23: Please use this spreadsheet with reference to the LC14 use of system charging statement.
A25: Notes to DNOs populating this spreadsheet
A27: DNOs must endeavour to maintain consistency in the structure of this spreadsheet. Any changes to the structure must be noted in the 'Notes to users of this spreadsheet'
A28: The drop down list on the charge calculator can be expanded by unprotecting the charge calculator sheet and selecting 'data', 'data validation...' and then expanding the 'source' data range. The sheet can then be protected.

Sheet Annex 1 LV, HV and UMS charges
A1: Back to Overview
A2: =Overview!B4& " - Effective from "&Overview!D4&" - "&Overview!E4&" LV and HV charges" -> Eastern Power Networks - Effective from 1 April 2026 - Final LV and HV charges
A4: Time Bands for LV and HV Designated Properties | G4: Time Bands for Unmetered Properties
A5: Time periods | B5: Red Time Band | C5: Amber Time Band | E5: Green Time Band | I5: Black Time Band | J5: Yellow Time Band | K5: Green Time Band
A6: Monday to Friday (Including Bank Holidays) All Year | B6: 16:00 - 19:00 | C6: 07:00 - 16:00 19:00 - 23:00 | E6: 00:00 - 07:00 23:00 - 24:00 | G6: Monday to Friday (Including Bank Holidays) November to February Inclusive | I6: 16:00 - 19:00 | J6: 07:00 - 16:00 19:00 - 23:00 | K6: 00:00 - 07:00 23:00 - 24:00
A7: Saturday and Sunday All Year | E7: 00:00 - 24:00 | G7: Monday to Friday (Including Bank Holidays) March to October Inclusive | J7: 07:00 - 23:00 | K7: 00:00 - 07:00 23:00 - 24:00
A8: Notes | B8: All the above times are in UK Clock time | G8: Saturday and Sunday All Year | K8: 00:00 - 24:00
G9: Notes | I9: All the above times are in UK Clock time
A12: Tariff name | B12: Open LLFCs/ DUoS Tariff IDs | C12: PCs | D12: Red/black unit charge p/kWh | E12: Amber/yellow unit charge p/kWh | F12: Green unit charge p/kWh | G12: Fixed charge p/MPAN/day | H12: Capacity charge p/kVA/day | I12: Exceeded capacity charge p/kVA/day | J12: Reactive power charge p/kVArh | K12: Closed LLFCs/ DUoS Tariff IDs
A13: Domestic Aggregated or CT with Residual | B13: 1 | C13: 0, 1, 2 | D13: 15.491 | E13: 1.907 | F13: 0.244 | G13: 9.05 | K13: 3, 7
A14: Domestic Aggregated (Related MPAN) | B14: 2 | C14: 2 | D14: 15.491 | E14: 1.907 | F14: 0.244
A15: Non-Domestic Aggregated or CT No Residual | B15: 199 | C15: 0, 3, 4, 5-8 | D15: 11.716 | E15: 1.442 | F15: 0.184 | G15: 9.42
A16: Non-Domestic Aggregated or CT Band 1 | B16: 201, N01 | C16: 0, 3, 4, 5-8 | D16: 11.716 | E16: 1.442 | F16: 0.184 | G16: 9.65
A17: Non-Domestic Aggregated or CT Band 2 | B17: 202, N02 | C17: 0, 3, 4, 5-8 | D17: 11.716 | E17: 1.442 | F17: 0.184 | G17: 10.08
A18: Non-Domestic Aggregated or CT Band 3 | B18: 203, N03 | C18: 0, 3, 4, 5-8 | D18: 11.716 | E18: 1.442 | F18: 0.184 | G18: 10.82
A19: Non-Domestic Aggregated or CT Band 4 | B19: 204, N04 | C19: 0, 3, 4, 5-8 | D19: 11.716 | E19: 1.442 | F19: 0.184 | G19: 13.03
A20: Non-Domestic Aggregated (related MPAN) | B20: 200 | C20: 4 | D20: 11.716 | E20: 1.442 | F20: 0.184
A21: LV Site Specific No Residual | B21: 70 | C21: 0 | D21: 8.149 | E21: 0.937 | F21: 0.108 | G21: 21.5 | H21: 8.04 | I21: 8.04 | J21: 0.369
A22: LV Site Specific Band 1 | B22: 71 | C22: 0 | D22: 8.149 | E22: 0.937 | F22: 0.108 | G22: 28.67 | H22: 8.04 | I22: 8.04 | J22: 0.369
A23: LV Site Specific Band 2 | B23: 72 | C23: 0 | D23: 8.149 | E23: 0.937 | F23: 0.108 | G23: 33.09 | H23: 8.04 | I23: 8.04 | J23: 0.369
A24: LV Site Specific Band 3 | B24: 73 | C24: 0 | D24: 8.149 | E24: 0.937 | F24: 0.108 | G24: 37.45 | H24: 8.04 | I24: 8.04 | J24: 0.369
A25: LV Site Specific Band 4 | B25: 74 | C25: 0 | D25: 8.149 | E25: 0.937 | F25: 0.108 | G25: 66.66 | H25: 8.04 | I25: 8.04 | J25: 0.369
A26: LV Sub Site Specific No Residual | B26: 80 | C26: 0 | D26: 5.506 | E26: 0.563 | F26: 0.052 | G26: 17.95 | H26: 6.06 | I26: 6.06 | J26: 0.22
A27: LV Sub Site Specific Band 1 | B27: 81 | C27: 0 | D27: 5.506 | E27: 0.563 | F27: 0.052 | G27: 25.12 | H27: 6.06 | I27: 6.06 | J27: 0.22
A28: LV Sub Site Specific Band 2 | B28: 82 | C28: 0 | D28: 5.506 | E28: 0.563 | F28: 0.052 | G28: 29.54 | H28: 6.06 | I28: 6.06 | J28: 0.22
A29: LV Sub Site Specific Band 3 | B29: 83 | C29: 0 | D29: 5.506 | E29: 0.563 | F29: 0.052 | G29: 33.9 | H29: 6.06 | I29: 6.06 | J29: 0.22
A30: LV Sub Site Specific Band 4 | B30: 84 | C30: 0 | D30: 5.506 | E30: 0.563 | F30: 0.052 | G30: 63.12 | H30: 6.06 | I30: 6.06 | J30: 0.22
A31: HV Site Specific No Residual | B31: 90 | C31: 0 | D31: 4.837 | E31: 0.457 | F31: 0.038 | G31: 181.7 | H31: 5.31 | I31: 5.31 | J31: 0.183
A32: HV Site Specific Band 1 | B32: 91 | C32: 0 | D32: 4.837 | E32: 0.457 | F32: 0.038 | G32: 240.75 | H32: 5.31 | I32: 5.31 | J32: 0.183
... A35: HV Site Specific Band 4 | B35: 94 | C35: 0 | D35: 4.837 | E35: 0.457 | F35: 0.038 | G35: 855.53 | H35: 5.31 | I35: 5.31 | J35: 0.183
A36: Unmetered Supplies | B36: 100, 101, 102, 103, 350 | C36: 0, 1 or 8 | D36: 39.967 | E36: 3.385 | F36: 2.051 | K36: 110, 111, 112, 113, 150, 151, 152, 153, 160, 161, 162, 163
A37: LV Generation Aggregated | B37: 932 | C37: 0, 8 | D37: -9.135 | E37: -1.124 | F37: -0.144 | G37: 0
A38: LV Sub Generation Aggregated | C38: 0 | D38: -7.369 | E38: -0.865 | F38: -0.103 | G38: 0
A39: LV Generation Site Specific | B39: 980 | C39: 0 | D39: -9.135 | E39: -1.124 | F39: -0.144 | G39: 0 | J39: 0.459
A40: LV Generation Site Specific no RP charge | B40: 981 | C40: 0 | D40: -9.135 | E40: -1.124 | F40: -0.144 | G40: 0
A41: LV Sub Generation Site Specific | B41: 984 | C41: 0 | D41: -7.369 | E41: -0.865 | F41: -0.103 | G41: 0 | J41: 0.328
A42: LV Sub Generation Site Specific no RP charge | B42: 985 | C42: 0 | D42: -7.369 | E42: -0.865 | F42: -0.103 | G42: 0
A43: HV Generation Site Specific | B43: 988 | C43: 0 | D43: -5.466 | E43: -0.559 | F43: -0.052 | G43: 12.88 | J43: 0.277
A44: HV Generation Site Specific no RP charge | B44: 989 | C44: 0 | D44: -5.466 | E44: -0.559 | F44: -0.052 | G44: 12.88

Sheet Annex 2 Designated EHV charges
A1: Back to Overview | C1: Note: The DNO reserves the right to apply the listed charges to any other MPANs/MSIDs associated with the site. This includes reallocating charges to a traded MPAN at the same site where another MPAN has been disconnected or de-energised.
A2: =Overview!B4& " - Effective from "&Overview!D4&" - "&Overview!E4&" Designated EHV charges" -> Eastern Power Networks - Effective from 1 April 2026 - Final Designated EHV charges
A4: Time Periods for Designated EHV Properties
A5: Time periods | D5: Super Red Time Band
A6: Monday to Friday (Including Bank Holidays) November to February Inclusive | D6: 16:00 - 19:00
A7: Notes | D7: All the above times are in UK Clock time
A9: Import Unique Identifier | B9: LLFC/ DUoS Tariff ID | C9: Import MPANs/MSIDs | D9: Export Unique Identifier | E9: LLFC/ DUoS Tariff ID | F9: Export MPANs/MSIDs | G9: Name | H9: Residual Charging Band | I9: Import Super Red unit charge (p/kWh) | J9: Import fixed charge (p/day) | K9: Import capacity charge (p/kVA/day) | L9: Import exceeded capacity charge (p/kVA/day) | M9: Export Super Red unit charge (p/kWh) | N9: Export fixed charge (p/day) | O9: Export capacity charge (p/kVA/day) | P9: Export exceeded capacity charge (p/kVA/day)
A10: 3VALSW | B10: 585 | C10: 1014569699836 | G10: 3VALSW | H10: 1 | I10: 0 | J10: 10539.44 | K10: 5.82 | L10: 5.82
A11: ADBRKS | B11: 586 | C11: 1023529546480 | G11: ADBRKS | H11: 3 | I11: 1.593 | J11: 64163.97 | K11: 3.63 | L11: 3.63
A12: ARAMAN | B12: 800 | C12: 1023483097981 | G12: ARAMAN | H12: 4 | I12: 0.513 | J12: 83703.51 | K12: 1.41 | L12: 1.41
A13: ARKENF | B13: 328 | C13: 1050001901140 | G13: ARKENF | H13: 4 | I13: 0.027 | J13: 80651.81 | K13: 1.34 | L13: 1.34
A14: ARLAFD | B14: 587 | C14: 1030081553176;1030081553404 | D14: ARLAFD | E14: 710 | F14: 1030085114723;1030085114955 | G14: ARLAFD | H14: 2 | I14: 2.143 | J14: 24761.92 | K14: 1.35 | L14: 1.35 | M14: -2.057 | N14: 146.58 | O14: 0.05 | P14: 0.05
A15: AW_GRA | B15: 588 | C15: 1014571445536;1023477037942 | D15: AW_GRA | E15: 400 | F15: 1050001872410;1050001872400 | G15: AW_GRA | H15: 2 | I15: 1.567 | J15: 24426.14 | K15: 5.81 | L15: 5.81 | M15: 0 | N15: 91.48 | O15: 0.05 | P15: 0.05
A16: AWOUSE | B16: 589 | C16: 1014571965793;1023475403798 | G16: AWOUSE | H16: 1 | I16: 0.739 | J16: 5403.87 | K16: 3.51 | L16: 3.51
A17: BERMAT | B17: 590 | C17: 1014571751895 | G17: BERMAT | H17: 1 | I17: 0 | J17: 5208.44 | K17: 4.04 | L17: 4.04
A18: BOCTHA | B18: 803 | C18: 1014572608412 | G18: BOCTHA | H18: 2 | I18: 1.772 | J18: 26055.93 | K18: 6.86 | L18: 6.86
A19: BPA_CO | B19: 804 | C19: 1014572578282 | G19: BPA_CO | H19: 1 | I19: 0.299 | J19: 6004.06 | K19: 3.3 | L19: 3.3
A20: BPTLTD | B20: 591 | C20: 1014572502380;1023475256360 | G20: BPTLTD | H20: 2 | I20: 2.288 | J20: 24713.06 | K20: 1.97 | L20: 1.97
A21: BREFC2 | B21: 333 | C21: 1050002055558 | D21: BREFC2 | E21: 410 | F21: 1050002055567 | G21: BREFC2 | H21: 1 | I21: 0 | J21: 5292.29 | K21: 4.5 | L21: 4.5 | M21: 0 | N21: 41.89 | O21: 0.05 | P21: 0.05
A22: BTLCOM | B22: 592 | C22: 1014572546086;1023545733475;1050000169030 | G22: BTLCOM | H22: 2 | I22: 2.519 | J22: 25103.94 | K22: 3.96 | L22: 3.96
A23: BUNCDC | C23: ENET | G23: BUNCDC | H23: 4 | I23: 0 | J23: 68693.98 | K23: 2.56 | L23: 2.56
A24: CEMXUK | B24: 593 | C24: 1014571132500;1023474247588 | G24: CEMXUK | H24: 1 | I24: 6.584 | J24: 5403.87 | K24: 2.83 | L24: 2.83
A25: CMRODC | B25: 594 | C25: 1050001068050;1050001068069 | G25: CMRODC | H25: 1 | I25: 2.422 | J25: 5455.54 | K25: 1.34 | L25: 1.34
A26: CROWNP | B26: 335 | C26: 1050001472920 | D26: CROWNP | E26: 413 | F26: 1050002018370 | G26: CROWNP | H26: 1 | I26: 0 | J26: 5932.54 | K26: 1.62 | L26: 1.62 | M26: 0 | N26: 1114.6 | O26: 0.05 | P26: 0.05
A27: DELTAP | C27: ENET | G27: DELTAP | H27: 2 | I27: 1.212 | J27: 22775.05 | K27: 1.75 | L27: 1.75
A28: DGRLTY | B28: 595 | C28: 1030050289278;1030050289506 | G28: DGRLTY | H28: 4 | I28: 1.115 | J28: 91914.86 | K28: 1.3 | L28: 1.3
A29: DRABED | B29: 809 | C29: 1014572509517 | G29: DRABED | H29: 1 | I29: 0.614 | J29: 18484.81 | K29: 1.56 | L29: 1.56
A30: EMR_TI | B30: 813 | C30: 1014572805060;1023475632649 | G30: EMR_TI | H30: 2 | I30: 0.159 | J30: 25481.04 | K30: 1.49 | L30: 1.49
A31: ESWMID | B31: 596 | C31: 1014572640842;1014572641075 | D31: ESWMID | E31: 432 | F31: 1023518907371;1023518908064 | G31: ESWMID | H31: 1 | I31: 4.499 | J31: 5377.82 | K31: 3.26 | L31: 3.26 | M31: -4.41 | N31: 26.06 | O31: 0.05 | P31: 0.05
A32: ESWWIX | B32: 597 | C32: 1014572713989 | G32: ESWWIX | H32: 1 | I32: 10.697 | J32: 10853.38 | K32: 2.1 | L32: 2.1
A33: FORD_D | B33: 818 | C33: 1015684515819 | G33: FORD_D | H33: 4 | I33: 0.044 | J33: 117066.52 | K33: 2.24 | L33: 2.24
A34: FRDHVS | B34: 598 | C34: 1014572810813 | G34: FRDHVS | H34: 3 | I34: 3.445 | J34: 59223.84 | K34: 3.36 | L34: 3.36
A35: FUJISL | B35: 599 | C35: 1023526590750;1023526590982;1023526591211 | G35: FUJISL | H35: 2 | I35: 2.763 | J35: 24908.5 | K35: 2.09 | L35: 2.09
A36: FXDFAG | B36: 474 | C36: 1014572633250;1023479907422 | G36: FXDFAG | H36: 2 | I36: 1.317 | J36: 29406.09 | K36: 3.13 | L36: 3.13
A37: FXDOYS | B37: 475 | C37: 1023482441566;1023492579962 | G37: FXDOYS | H37: 2 | I37: 1.314 | J37: 29406.09 | K37: 2.74 | L37: 2.74
A38: GLXOST | B38: 476 | C38: 1014569657748;1014569657970 | G38: GLXOST | H38: 3 | I38: 1.585 | J38: 58637.53 | K38: 2.63 | L38: 2.63
A39: GLXOW2 | B39: 477 | C39: 1023475634488;1023475635409 | G39: GLXOW2 | H39: 2 | I39: 4.705 | J39: 24713.06 | K39: 3.29 | L39: 3.29
A40: GLXOWR | B40: 478 | C40: 1014570677103;1023475633563;1023475634256;1023475634948;1023484819994 | D40: GLXOWR | E40: 433 | F40: 1030074763118;1030074763340 | G40: GLXOWR | H40: 2 | I40: 4.705 | J40: 24713.06 | K40: 2.8 | L40: 2.8
A41: HEINZF | B41: 479 | C41: 1014573127752 | G41: HEINZF | H41: 1 | I41: 2.702 | J41: 5208.44 | K41: 4.47 | L41: 4.47
A42: HRLWDC | B42: 480 | C42: 1050001003372;1050001003381;1050001003390 | G42: HRLWDC | H42: 2 | I42: 0.349 | J42: 49145.12 | K42: 1.44 | L42: 1.44
...

Sheet Annex 2a Import
A1: Note: The list of MPANs / MSIDs provided may be incomplete; the DNO reserves the right to apply the listed charges to any other MPANs / MSIDs associated with the site. Note: This table is automatically populated based on the content of the tab entitled 'Annex 2 EHV Charges'. The timebands are as shown in Annex 2.
A2: =Overview!B4& " - Effective from "&Overview!D4&" - "&Overview!E4&" Designated EHV import charges" -> Eastern Power Networks - Effective from 1 April 2026 - Final Designated EHV import charges
A4: Import Unique Identifier | B4: LLFC/ DUoS Tariff ID | C4: Import MPANs/MSIDs | D4: Name | E4: ='Annex 2 Designated EHV charges'!I9 -> Import Super Red unit charge (p/kWh) | F4: ='Annex 2 Designated EHV charges'!J9 -> Import fixed charge (p/day) | G4: ='Annex 2 Designated EHV charges'!K9 -> Import capacity charge (p/kVA/day) | H4: ='Annex 2 Designated EHV charges'!L9 -> Import exceeded capacity charge (p/kVA/day)
A5: {=IFERROR(INDEX('Annex 2 Designated EHV charges'!$A$10:$A$400, MATCH(0, IF(ISBLANK('Annex 2 Designated EHV charges'!$A$10:$A$400),1, COUNTIF(A$4:$A4, 'Annex 2 Designated EHV charges'!$A$10:$A$400)), 0)),"")} -> 3VALSW | B5: =IF($A5="","",VLOOKUP($A5,'Annex 2 Designated EHV charges'!$A:$O,2,0)) -> 585 | C5: =IF($A5="","",VLOOKUP($A5,'Annex 2 Designated EHV charges'!$A:$O,3,0)) -> 1014569699836 | D5: =IF($A5="","",VLOOKUP($A5,'Annex 2 Designated EHV charges'!$A:$O,7,0)) -> 3VALSW | E5: =IFERROR(IF(VLOOKUP($A5,'Annex 2 Designated EHV charges'!$A:$O,9,FALSE)=0,"",VLOOKUP($A5,'Annex 2 Designated EHV charges'!$A:$O,9,FALSE)),"") | F5: =IFERROR(IF(VLOOKUP($A5,'Annex 2 Designated EHV charges'!$A:$O,10,FALSE)=0,"",VLOOKUP($A5,'Annex 2 Designated EHV charges'!$A:$O,10,FALSE)),"") -> 10539.44 | G5: =IFERROR(IF(VLOOKUP($A5,'Annex 2 Designated EHV charges'!$A:$O,11,FALSE)=0,"",VLOOKUP($A5,'Annex 2 Designated EHV charges'!$A:$O,11,FALSE)),"") -> 5.82 | H5: =IFERROR(IF(VLOOKUP($A5,'Annex 2 Designated EHV charges'!$A:$O,12,FALSE)=0,"",VLOOKUP($A5,'Annex 2 Designated EHV charges'!$A:$O,12,FALSE)),"") -> 5.82
A6: {=IFERROR(INDEX('Annex 2 Designated EHV charges'!$A$10:$A$400, MATCH(0, IF(ISBLANK('Annex 2 Designated EHV charges'!$A$10:$A$400),1, COUNTIF(A$4:$A5, 'Annex 2 Designated EHV charges'!$A$10:$A$400)), 0)),"")} -> ADBRKS | B6: =IF($A6="","",VLOOKUP($A6,'Annex 2 Designated EHV charges'!$A:$O,2,0)) -> 586 | C6: =IF($A6="","",VLOOKUP($A6,'Annex 2 Designated EHV charges'!$A:$O,3,0)) -> 1023529546480 | D6: =IF($A6="","",VLOOKUP($A6,'Annex 2 Designated EHV charges'!$A:$O,7,0)) -> ADBRKS | E6: =IFERROR(IF(VLOOKUP($A6,'Annex 2 Designated EHV charges'!$A:$O,9,FALSE)=0,"",VLOOKUP($A6,'Annex 2 Designated EHV charges'!$A:$O,9,FALSE)),"") -> 1.593 | F6: =IFERROR(IF(VLOOKUP($A6,'Annex 2 Designated EHV charges'!$A:$O,10,FALSE)=0,"",VLOOKUP($A6,'Annex 2 Designated EHV charges'!$A:$O,10,FALSE)),"") -> 64163.97 | G6: =IFERROR(IF(VLOOKUP($A6,'Annex 2 Designated EHV charges'!$A:$O,11,FALSE)=0,"",VLOOKUP($A6,'Annex 2 Designated EHV charges'!$A:$O,11,FALSE)),"") -> 3.63 | H6: =IFERROR(IF(VLOOKUP($A6,'Annex 2 Designated EHV charges'!$A:$O,12,FALSE)=0,"",VLOOKUP($A6,'Annex 2 Designated EHV charges'!$A:$O,12,FALSE)),"") -> 3.63
A7: {=IFERROR(INDEX('Annex 2 Designated EHV charges'!$A$10:$A$400, MATCH(0, IF(ISBLANK('Annex 2 Designated EHV charges'!$A$10:$A$400),1, COUNTIF(A$4:$A6, 'Annex 2 Designated EHV charges'!$A$10:$A$400)), 0)),"")} -> ARAMAN | B7: =IF($A7="","",VLOOKUP($A7,'Annex 2 Designated EHV charges'!$A:$O,2,0)) -> 800 | C7: =IF($A7="","",VLOOKUP($A7,'Annex 2 Designated EHV charges'!$A:$O,3,0)) -> 1023483097981 | D7: =IF($A7="","",VLOOKUP($A7,'Annex 2 Designated EHV charges'!$A:$O,7,0)) -> ARAMAN | E7: =IFERROR(IF(VLOOKUP($A7,'Annex 2 Designated EHV charges'!$A:$O,9,FALSE)=0,"",VLOOKUP($A7,'Annex 2 Designated EHV charges'!$A:$O,9,FALSE)),"") -> 0.513 | F7: =IFERROR(IF(VLOOKUP($A7,'Annex 2 Designated EHV charges'!$A:$O,10,FALSE)=0,"",VLOOKUP($A7,'Annex 2 Designated EHV charges'!$A:$O,10,FALSE)),"") -> 83703.51 | G7: =IFERROR(IF(VLOOKUP($A7,'Annex 2 Designated EHV charges'!$A:$O,11,FALSE)=0,"",VLOOKUP($A7,'Annex 2 Designated EHV charges'!$A:$O,11,FALSE)),"") -> 1.41 | H7: =IFERROR(IF(VLOOKUP($A7,'Annex 2 Designated EHV charges'!$A:$O,12,FALSE)=0,"",VLOOKUP($A7,'Annex 2 Designated EHV charges'!$A:$O,12,FALSE)),"") -> 1.41
A8: {=IFERROR(INDEX('Annex 2 Designated EHV charges'!$A$10:$A$400, MATCH(0, IF(ISBLANK('Annex 2 Designated EHV charges'!$A$10:$A$400),1, COUNTIF(A$4:$A7, 'Annex 2 Designated EHV charges'!$A$10:$A$400)), 0)),"")} -> ARKENF | B8: =IF($A8="","",VLOOKUP($A8,'Annex 2 Designated EHV charges'!$A:$O,2,0)) -> 328 | C8: =IF($A8="","",VLOOKUP($A8,'Annex 2 Designated EHV charges'!$A:$O,3,0)) -> 1050001901140 | D8: =IF($A8="","",VLOOKUP($A8,'Annex 2 Designated EHV charges'!$A:$O,7,0)) -> ARKENF | E8: =IFERROR(IF(VLOOKUP($A8,'Annex 2 Designated EHV charges'!$A:$O,9,FALSE)=0,"",VLOOKUP($A8,'Annex 2 Designated EHV charges'!$A:$O,9,FALSE)),"") -> 0.027 | F8: =IFERROR(IF(VLOOKUP($A8,'Annex 2 Designated EHV charges'!$A:$O,10,FALSE)=0,"",VLOOKUP($A8,'Annex 2 Designated EHV charges'!$A:$O,10,FALSE)),"") -> 80651.81 | G8: =IFERROR(IF(VLOOKUP($A8,'Annex 2 Designated EHV charges'!$A:$O,11,FALSE)=0,"",VLOOKUP($A8,'Annex 2 Designated EHV charges'!$A:$O,11,FALSE)),"") -> 1.34 | H8: =IFERROR(IF(VLOOKUP($A8,'Annex 2 Designated EHV charges'!$A:$O,12,FALSE)=0,"",VLOOKUP($A8,'Annex 2 Designated EHV charges'!$A:$O,12,FALSE)),"") -> 1.34
A9: {=IFERROR(INDEX('Annex 2 Designated EHV charges'!$A$10:$A$400, MATCH(0, IF(ISBLANK('Annex 2 Designated EHV charges'!$A$10:$A$400),1, COUNTIF(A$4:$A8, 'Annex 2 Designated EHV charges'!$A$10:$A$400)), 0)),"")} -> ARLAFD | B9: =IF($A9="","",VLOOKUP($A9,'Annex 2 Designated EHV charges'!$A:$O,2,0)) -> 587 | C9: =IF($A9="","",VLOOKUP($A9,'Annex 2 Designated EHV charges'!$A:$O,3,0)) -> 1030081553176;1030081553404 | D9: =IF($A9="","",VLOOKUP($A9,'Annex 2 Designated EHV charges'!$A:$O,7,0)) -> ARLAFD | E9: =IFERROR(IF(VLOOKUP($A9,'Annex 2 Designated EHV charges'!$A:$O,9,FALSE)=0,"",VLOOKUP($A9,'Annex 2 Designated EHV charges'!$A:$O,9,FALSE)),"") -> 2.143 | F9: =IFERROR(IF(VLOOKUP($A9,'Annex 2 Designated EHV charges'!$A:$O,10,FALSE)=0,"",VLOOKUP($A9,'Annex 2 Designated EHV charges'!$A:$O,10,FALSE)),"") -> 24761.92 | G9: =IFERROR(IF(VLOOKUP($A9,'Annex 2 Designated EHV charges'!$A:$O,11,FALSE)=0,"",VLOOKUP($A9,'Annex 2 Designated EHV charges'!$A:$O,11,FALSE)),"") -> 1.35 | H9: =IFERROR(IF(VLOOKUP($A9,'Annex 2 Designated EHV charges'!$A:$O,12,FALSE)=0,"",VLOOKUP($A9,'Annex 2 Designated EHV charges'!$A:$O,12,FALSE)),"") -> 1.35
A10: {=IFERROR(INDEX('Annex 2 Designated EHV charges'!$A$10:$A$400, MATCH(0, IF(ISBLANK('Annex 2 Designated EHV charges'!$A$10:$A$400),1, COUNTIF(A$4:$A9, 'Annex 2 Designated EHV charges'!$A$10:$A$400)), 0)),"")} -> AW_GRA | B10: =IF($A10="","",VLOOKUP($A10,'Annex 2 Designated EHV charges'!$A:$O,2,0)) -> 588 | C10: =IF($A10="","",VLOOKUP($A10,'Annex 2 Designated EHV charges'!$A:$O,3,0)) -> 1014571445536;1023477037942 | D10: =IF($A10="","",VLOOKUP($A10,'Annex 2 Designated EHV charges'!$A:$O,7,0)) -> AW_GRA | E10: =IFERROR(IF(VLOOKUP($A10,'Annex 2 Designated EHV charges'!$A:$O,9,FALSE)=0,"",VLOOKUP($A10,'Annex 2 Designated EHV charges'!$A:$O,9,FALSE)),"") -> 1.567 | F10: =IFERROR(IF(VLOOKUP($A10,'Annex 2 Designated EHV charges'!$A:$O,10,FALSE)=0,"",VLOOKUP($A10,'Annex 2 Designated EHV charges'!$A:$O,10,FALSE)),"") -> 24426.14 | G10: =IFERROR(IF(VLOOKUP($A10,'Annex 2 Designated EHV charges'!$A:$O,11,FALSE)=0,"",VLOOKUP($A10,'Annex 2 Designated EHV charges'!$A:$O,11,FALSE)),"") -> 5.81 | H10: =IFERROR(IF(VLOOKUP($A10,'Annex 2 Designated EHV charges'!$A:$O,12,FALSE)=0,"",VLOOKUP($A10,'Annex 2 Designated EHV charges'!$A:$O,12,FALSE)),"") -> 5.81
A11: {=IFERROR(INDEX('Annex 2 Designated EHV charges'!$A$10:$A$400, MATCH(0, IF(ISBLANK('Annex 2 Designated EHV charges'!$A$10:$A$400),1, COUNTIF(A$4:$A10, 'Annex 2 Designated EHV charges'!$A$10:$A$400)), 0)),"")} -> AWOUSE | B11: =IF($A11="","",VLOOKUP($A11,'Annex 2 Designated EHV charges'!$A:$O,2,0)) -> 589 | C11: =IF($A11="","",VLOOKUP($A11,'Annex 2 Designated EHV charges'!$A:$O,3,0)) -> 1014571965793;1023475403798 | D11: =IF($A11="","",VLOOKUP($A11,'Annex 2 Designated EHV charges'!$A:$O,7,0)) -> AWOUSE | E11: =IFERROR(IF(VLOOKUP($A11,'Annex 2 Designated EHV charges'!$A:$O,9,FALSE)=0,"",VLOOKUP($A11,'Annex 2 Designated EHV charges'!$A:$O,9,FALSE)),"") -> 0.739 | F11: =IFERROR(IF(VLOOKUP($A11,'Annex 2 Designated EHV charges'!$A:$O,10,FALSE)=0,"",VLOOKUP($A11,'Annex 2 Designated EHV charges'!$A:$O,10,FALSE)),"") -> 5403.87 | G11: =IFERROR(IF(VLOOKUP($A11,'Annex 2 Designated EHV charges'!$A:$O,11,FALSE)=0,"",VLOOKUP($A11,'Annex 2 Designated EHV charges'!$A:$O,11,FALSE)),"") -> 3.51 | H11: =IFERROR(IF(VLOOKUP($A11,'Annex 2 Designated EHV charges'!$A:$O,12,FALSE)=0,"",VLOOKUP($A11,'Annex 2 Designated EHV charges'!$A:$O,12,FALSE)),"") -> 3.51
A12: {=IFERROR(INDEX('Annex 2 Designated EHV charges'!$A$10:$A$400, MATCH(0, IF(ISBLANK('Annex 2 Designated EHV charges'!$A$10:$A$400),1, COUNTIF(A$4:$A11, 'Annex 2 Designated EHV charges'!$A$10:$A$400)), 0)),"")} -> BERMAT | B12: =IF($A12="","",VLOOKUP($A12,'Annex 2 Designated EHV charges'!$A:$O,2,0)) -> 590 | C12: =IF($A12="","",VLOOKUP($A12,'Annex 2 Designated EHV charges'!$A:$O,3,0)) -> 1014571751895 | D12: =IF($A12="","",VLOOKUP($A12,'Annex 2 Designated EHV charges'!$A:$O,7,0)) -> BERMAT | E12: =IFERROR(IF(VLOOKUP($A12,'Annex 2 Designated EHV charges'!$A:$O,9,FALSE)=0,"",VLOOKUP($A12,'Annex 2 Designated EHV charges'!$A:$O,9,FALSE)),"") | F12: =IFERROR(IF(VLOOKUP($A12,'Annex 2 Designated EHV charges'!$A:$O,10,FALSE)=0,"",VLOOKUP($A12,'Annex 2 Designated EHV charges'!$A:$O,10,FALSE)),"") -> 5208.44 | G12: =IFERROR(IF(VLOOKUP($A12,'Annex 2 Designated EHV charges'!$A:$O,11,FALSE)=0,"",VLOOKUP($A12,'Annex 2 Designated EHV charges'!$A:$O,11,FALSE)),"") -> 4.04 | H12: =IFERROR(IF(VLOOKUP($A12,'Annex 2 Designated EHV charges'!$A:$O,12,FALSE)=0,"",VLOOKUP($A12,'Annex 2 Designated EHV charges'!$A:$O,12,FALSE)),"") -> 4.04
A13: {=IFERROR(INDEX('Annex 2 Designated EHV charges'!$A$10:$A$400, MATCH(0, IF(ISBLANK('Annex 2 Designated EHV charges'!$A$10:$A$400),1, COUNTIF(A$4:$A12, 'Annex 2 Designated EHV charges'!$A$10:$A$400)), 0)),"")} -> BOCTHA | B13: =IF($A13="","",VLOOKUP($A13,'Annex 2 Designated EHV charges'!$A:$O,2,0)) -> 803 | C13: =IF($A13="","",VLOOKUP($A13,'Annex 2 Designated EHV charges'!$A:$O,3,0)) -> 1014572608412 | D13: =IF($A13="","",VLOOKUP($A13,'Annex 2 Designated EHV charges'!$A:$O,7,0)) -> BOCTHA | E13: =IFERROR(IF(VLOOKUP($A13,'Annex 2 Designated EHV charges'!$A:$O,9,FALSE)=0,"",VLOOKUP($A13,'Annex 2 Designated EHV charges'!$A:$O,9,FALSE)),"") -> 1.772 | F13: =IFERROR(IF(VLOOKUP($A13,'Annex 2 Designated EHV charges'!$A:$O,10,FALSE)=0,"",VLOOKUP($A13,'Annex 2 Designated EHV charges'!$A:$O,10,FALSE)),"") -> 26055.93 | G13: =IFERROR(IF(VLOOKUP($A13,'Annex 2 Designated EHV charges'!$A:$O,11,FALSE)=0,"",VLOOKUP($A13,'Annex 2 Designated EHV charges'!$A:$O,11,FALSE)),"") -> 6.86 | H13: =IFERROR(IF(VLOOKUP($A13,'Annex 2 Designated EHV charges'!$A:$O,12,FALSE)=0,"",VLOOKUP($A13,'Annex 2 Designated EHV charges'!$A:$O,12,FALSE)),"") -> 6.86
A14: {=IFERROR(INDEX('Annex 2 Designated EHV charges'!$A$10:$A$400, MATCH(0, IF(ISBLANK('Annex 2 Designated EHV charges'!$A$10:$A$400),1, COUNTIF(A$4:$A13, 'Annex 2 Designated EHV charges'!$A$10:$A$400)), 0)),"")} -> BPA_CO | B14: =IF($A14="","",VLOOKUP($A14,'Annex 2 Designated EHV charges'!$A:$O,2,0)) -> 804 | C14: =IF($A14="","",VLOOKUP($A14,'Annex 2 Designated EHV charges'!$A:$O,3,0)) -> 1014572578282 | D14: =IF($A14="","",VLOOKUP($A14,'Annex 2 Designated EHV charges'!$A:$O,7,0)) -> BPA_CO | E14: =IFERROR(IF(VLOOKUP($A14,'Annex 2 Designated EHV charges'!$A:$O,9,FALSE)=0,"",VLOOKUP($A14,'Annex 2 Designated EHV charges'!$A:$O,9,FALSE)),"") -> 0.299 | F14: =IFERROR(IF(VLOOKUP($A14,'Annex 2 Designated EHV charges'!$A:$O,10,FALSE)=0,"",VLOOKUP($A14,'Annex 2 Designated EHV charges'!$A:$O,10,FALSE)),"") -> 6004.06 | G14: =IFERROR(IF(VLOOKUP($A14,'Annex 2 Designated EHV charges'!$A:$O,11,FALSE)=0,"",VLOOKUP($A14,'Annex 2 Designated EHV charges'!$A:$O,11,FALSE)),"") -> 3.3 | H14: =IFERROR(IF(VLOOKUP($A14,'Annex 2 Designated EHV charges'!$A:$O,12,FALSE)=0,"",VLOOKUP($A14,'Annex 2 Designated EHV charges'!$A:$O,12,FALSE)),"") -> 3.3
A15: {=IFERROR(INDEX('Annex 2 Designated EHV charges'!$A$10:$A$400, MATCH(0, IF(ISBLANK('Annex 2 Designated EHV charges'!$A$10:$A$400),1, COUNTIF(A$4:$A14, 'Annex 2 Designated EHV charges'!$A$10:$A$400)), 0)),"")} -> BPTLTD | B15: =IF($A15="","",VLOOKUP($A15,'Annex 2 Designated EHV charges'!$A:$O,2,0)) -> 591 | C15: =IF($A15="","",VLOOKUP($A15,'Annex 2 Designated EHV charges'!$A:$O,3,0)) -> 1014572502380;1023475256360 | D15: =IF($A15="","",VLOOKUP($A15,'Annex 2 Designated EHV charges'!$A:$O,7,0)) -> BPTLTD | E15: =IFERROR(IF(VLOOKUP($A15,'Annex 2 Designated EHV charges'!$A:$O,9,FALSE)=0,"",VLOOKUP($A15,'Annex 2 Designated EHV charges'!$A:$O,9,FALSE)),"") -> 2.288 | F15: =IFERROR(IF(VLOOKUP($A15,'Annex 2 Designated EHV charges'!$A:$O,10,FALSE)=0,"",VLOOKUP($A15,'Annex 2 Designated EHV charges'!$A:$O,10,FALSE)),"") -> 24713.06 | G15: =IFERROR(IF(VLOOKUP($A15,'Annex 2 Designated EHV charges'!$A:$O,11,FALSE)=0,"",VLOOKUP($A15,'Annex 2 Designated EHV charges'!$A:$O,11,FALSE)),"") -> 1.97 | H15: =IFERROR(IF(VLOOKUP($A15,'Annex 2 Designated EHV charges'!$A:$O,12,FALSE)=0,"",VLOOKUP($A15,'Annex 2 Designated EHV charges'!$A:$O,12,FALSE)),"") -> 1.97
A16: {=IFERROR(INDEX('Annex 2 Designated EHV charges'!$A$10:$A$400, MATCH(0, IF(ISBLANK('Annex 2 Designated EHV charges'!$A$10:$A$400),1, COUNTIF(A$4:$A15, 'Annex 2 Designated EHV charges'!$A$10:$A$400)), 0)),"")} -> BREFC2 | B16: =IF($A16="","",VLOOKUP($A16,'Annex 2 Designated EHV charges'!$A:$O,2,0)) -> 333 | C16: =IF($A16="","",VLOOKUP($A16,'Annex 2 Designated EHV charges'!$A:$O,3,0)) -> 1050002055558 | D16: =IF($A16="","",VLOOKUP($A16,'Annex 2 Designated EHV charges'!$A:$O,7,0)) -> BREFC2 | E16: =IFERROR(IF(VLOOKUP($A16,'Annex 2 Designated EHV charges'!$A:$O,9,FALSE)=0,"",VLOOKUP($A16,'Annex 2 Designated EHV charges'!$A:$O,9,FALSE)),"") | F16: =IFERROR(IF(VLOOKUP($A16,'Annex 2 Designated EHV charges'!$A:$O,10,FALSE)=0,"",VLOOKUP($A16,'Annex 2 Designated EHV charges'!$A:$O,10,FALSE)),"") -> 5292.29 | G16: =IFERROR(IF(VLOOKUP($A16,'Annex 2 Designated EHV charges'!$A:$O,11,FALSE)=0,"",VLOOKUP($A16,'Annex 2 Designated EHV charges'!$A:$O,11,FALSE)),"") -> 4.5 | H16: =IFERROR(IF(VLOOKUP($A16,'Annex 2 Designated EHV charges'!$A:$O,12,FALSE)=0,"",VLOOKUP($A16,'Annex 2 Designated EHV charges'!$A:$O,12,FALSE)),"") -> 4.5
... A413: {=IFERROR(INDEX('Annex 2 Designated EHV charges'!$A$10:$A$400, MATCH(0, IF(ISBLANK('Annex 2 Designated EHV charges'!$A$10:$A$400),1, COUNTIF(A$4:$A412, 'Annex 2 Designated EHV charges'!$A$10:$A$400)), 0)),"")} | B413: =IF($A413="","",VLOOKUP($A413,'Annex 2 Designated EHV charges'!$A:$O,2,0)) | C413: =IF($A413="","",VLOOKUP($A413,'Annex 2 Designated EHV charges'!$A:$O,3,0)) | D413: =IF($A413="","",VLOOKUP($A413,'Annex 2 Designated EHV charges'!$A:$O,7,0)) | E413: =IFERROR(IF(VLOOKUP($A413,'Annex 2 Designated EHV charges'!$A:$O,9,FALSE)=0,"",VLOOKUP($A413,'Annex 2 Designated EHV charges'!$A:$O,9,FALSE)),"") | F413: =IFERROR(IF(VLOOKUP($A413,'Annex 2 Designated EHV charges'!$A:$O,10,FALSE)=0,"",VLOOKUP($A413,'Annex 2 Designated EHV charges'!$A:$O,10,FALSE)),"") | G413: =IFERROR(IF(VLOOKUP($A413,'Annex 2 Designated EHV charges'!$A:$O,11,FALSE)=0,"",VLOOKUP($A413,'Annex 2 Designated EHV charges'!$A:$O,11,FALSE)),"") | H413: =IFERROR(IF(VLOOKUP($A413,'Annex 2 Designated EHV charges'!$A:$O,12,FALSE)=0,"",VLOOKUP($A413,'Annex 2 Designated EHV charges'!$A:$O,12,FALSE)),"")

Sheet Annex 2b Export
A1: Note: The list of MPANs / MSIDs provided may be incomplete; the DNO reserves the right to apply the listed charges to any other MPANs / MSIDs associated with the site. Note: This table is automatically populated based on the content of the tab entitled 'Annex 2 EHV Charges'. The timebands are as shown in Annex 2.
A2: =Overview!B4& " - Effective from "&Overview!D4&" - "&Overview!E4&" Designated EHV export charges" -> Eastern Power Networks - Effective from 1 April 2026 - Final Designated EHV export charges
A4: Export Unique Identifier | B4: LLFC/ DUoS Tariff ID | C4: Export MPANs/MSIDs | D4: Name | E4: ='Annex 2 Designated EHV charges'!M9 -> Export Super Red unit charge (p/kWh) | F4: ='Annex 2 Designated EHV charges'!N9 -> Export fixed charge (p/day) | G4: ='Annex 2 Designated EHV charges'!O9 -> Export capacity charge (p/kVA/day) | H4: ='Annex 2 Designated EHV charges'!P9 -> Export exceeded capacity charge (p/kVA/day)
A5: {=IFERROR(INDEX('Annex 2 Designated EHV charges'!$D$10:$D$400, MATCH(0, IF(ISBLANK('Annex 2 Designated EHV charges'!$D$10:$D$400),1, COUNTIF(A$4:$A4, 'Annex 2 Designated EHV charges'!$D$10:$D$400)), 0)),"")} -> ARLAFD | B5: =IF($A5="","",VLOOKUP($A5,'Annex 2 Designated EHV charges'!$D:$O,2,0)) -> 710 | C5: =IF($A5="","",VLOOKUP($A5,'Annex 2 Designated EHV charges'!$D:$O,3,0)) -> 1030085114723;1030085114955 | D5: =IF($A5="","",VLOOKUP($A5,'Annex 2 Designated EHV charges'!$D:$O,4,0)) -> ARLAFD | E5: =IFERROR(IF(VLOOKUP($A5,'Annex 2 Designated EHV charges'!$D:$P,10,FALSE)=0,"",VLOOKUP($A5,'Annex 2 Designated EHV charges'!$D:$P,10,FALSE)),"") -> -2.057 | F5: =IFERROR(IF(VLOOKUP($A5,'Annex 2 Designated EHV charges'!$D:$P,11,FALSE)=0,"",VLOOKUP($A5,'Annex 2 Designated EHV charges'!$D:$P,11,FALSE)),"") -> 146.58 | G5: =IFERROR(IF(VLOOKUP($A5,'Annex 2 Designated EHV charges'!$D:$P,12,FALSE)=0,"",VLOOKUP($A5,'Annex 2 Designated EHV charges'!$D:$P,12,FALSE)),"") -> 0.05 | H5: =IFERROR(IF(VLOOKUP($A5,'Annex 2 Designated EHV charges'!$D:$P,13,FALSE)=0,"",VLOOKUP($A5,'Annex 2 Designated EHV charges'!$D:$P,13,FALSE)),"") -> 0.05
A6: {=IFERROR(INDEX('Annex 2 Designated EHV charges'!$D$10:$D$400, MATCH(0, IF(ISBLANK('Annex 2 Designated EHV charges'!$D$10:$D$400),1, COUNTIF(A$4:$A5, 'Annex 2 Designated EHV charges'!$D$10:$D$400)), 0)),"")} -> AW_GRA | B6: =IF($A6="","",VLOOKUP($A6,'Annex 2 Designated EHV charges'!$D:$O,2,0)) -> 400 | C6: =IF($A6="","",VLOOKUP($A6,'Annex 2 Designated EHV charges'!$D:$O,3,0)) -> 1050001872410;1050001872400 | D6: =IF($A6="","",VLOOKUP($A6,'Annex 2 Designated EHV charges'!$D:$O,4,0)) -> AW_GRA | E6: =IFERROR(IF(VLOOKUP($A6,'Annex 2 Designated EHV charges'!$D:$P,10,FALSE)=0,"",VLOOKUP($A6,'Annex 2 Designated EHV charges'!$D:$P,10,FALSE)),"") | F6: =IFERROR(IF(VLOOKUP($A6,'Annex 2 Designated EHV charges'!$D:$P,11,FALSE)=0,"",VLOOKUP($A6,'Annex 2 Designated EHV charges'!$D:$P,11,FALSE)),"") -> 91.48 | G6: =IFERROR(IF(VLOOKUP($A6,'Annex 2 Designated EHV charges'!$D:$P,12,FALSE)=0,"",VLOOKUP($A6,'Annex 2 Designated EHV charges'!$D:$P,12,FALSE)),"") -> 0.05 | H6: =IFERROR(IF(VLOOKUP($A6,'Annex 2 Designated EHV charges'!$D:$P,13,FALSE)=0,"",VLOOKUP($A6,'Annex 2 Designated EHV charges'!$D:$P,13,FALSE)),"") -> 0.05
A7: {=IFERROR(INDEX('Annex 2 Designated EHV charges'!$D$10:$D$400, MATCH(0, IF(ISBLANK('Annex 2 Designated EHV charges'!$D$10:$D$400),1, COUNTIF(A$4:$A6, 'Annex 2 Designated EHV charges'!$D$10:$D$400)), 0)),"")} -> BREFC2 | B7: =IF($A7="","",VLOOKUP($A7,'Annex 2 Designated EHV charges'!$D:$O,2,0)) -> 410 | C7: =IF($A7="","",VLOOKUP($A7,'Annex 2 Designated EHV charges'!$D:$O,3,0)) -> 1050002055567 | D7: =IF($A7="","",VLOOKUP($A7,'Annex 2 Designated EHV charges'!$D:$O,4,0)) -> BREFC2 | E7: =IFERROR(IF(VLOOKUP($A7,'Annex 2 Designated EHV charges'!$D:$P,10,FALSE)=0,"",VLOOKUP($A7,'Annex 2 Designated EHV charges'!$D:$P,10,FALSE)),"") | F7: =IFERROR(IF(VLOOKUP($A7,'Annex 2 Designated EHV charges'!$D:$P,11,FALSE)=0,"",VLOOKUP($A7,'Annex 2 Designated EHV charges'!$D:$P,11,FALSE)),"") -> 41.89 | G7: =IFERROR(IF(VLOOKUP($A7,'Annex 2 Designated EHV charges'!$D:$P,12,FALSE)=0,"",VLOOKUP($A7,'Annex 2 Designated EHV charges'!$D:$P,12,FALSE)),"") -> 0.05 | H7: =IFERROR(IF(VLOOKUP($A7,'Annex 2 Designated EHV charges'!$D:$P,13,FALSE)=0,"",VLOOKUP($A7,'Annex 2 Designated EHV charges'!$D:$P,13,FALSE)),"") -> 0.05
A8: {=IFERROR(INDEX('Annex 2 Designated EHV charges'!$D$10:$D$400, MATCH(0, IF(ISBLANK('Annex 2 Designated EHV charges'!$D$10:$D$400),1, COUNTIF(A$4:$A7, 'Annex 2 Designated EHV charges'!$D$10:$D$400)), 0)),"")} -> CROWNP | B8: =IF($A8="","",VLOOKUP($A8,'Annex 2 Designated EHV charges'!$D:$O,2,0)) -> 413 | C8: =IF($A8="","",VLOOKUP($A8,'Annex 2 Designated EHV charges'!$D:$O,3,0)) -> 1050002018370 | D8: =IF($A8="","",VLOOKUP($A8,'Annex 2 Designated EHV charges'!$D:$O,4,0)) -> CROWNP | E8: =IFERROR(IF(VLOOKUP($A8,'Annex 2 Designated EHV charges'!$D:$P,10,FALSE)=0,"",VLOOKUP($A8,'Annex 2 Designated EHV charges'!$D:$P,10,FALSE)),"") | F8: =IFERROR(IF(VLOOKUP($A8,'Annex 2 Designated EHV charges'!$D:$P,11,FALSE)=0,"",VLOOKUP($A8,'Annex 2 Designated EHV charges'!$D:$P,11,FALSE)),"") -> 1114.6 | G8: =IFERROR(IF(VLOOKUP($A8,'Annex 2 Designated EHV charges'!$D:$P,12,FALSE)=0,"",VLOOKUP($A8,'Annex 2 Designated EHV charges'!$D:$P,12,FALSE)),"") -> 0.05 | H8: =IFERROR(IF(VLOOKUP($A8,'Annex 2 Designated EHV charges'!$D:$P,13,FALSE)=0,"",VLOOKUP($A8,'Annex 2 Designated EHV charges'!$D:$P,13,FALSE)),"") -> 0.05
A9: {=IFERROR(INDEX('Annex 2 Designated EHV charges'!$D$10:$D$400, MATCH(0, IF(ISBLANK('Annex 2 Designated EHV charges'!$D$10:$D$400),1, COUNTIF(A$4:$A8, 'Annex 2 Designated EHV charges'!$D$10:$D$400)), 0)),"")} -> ESWMID | B9: =IF($A9="","",VLOOKUP($A9,'Annex 2 Designated EHV charges'!$D:$O,2,0)) -> 432 | C9: =IF($A9="","",VLOOKUP($A9,'Annex 2 Designated EHV charges'!$D:$O,3,0)) -> 1023518907371;1023518908064 | D9: =IF($A9="","",VLOOKUP($A9,'Annex 2 Designated EHV charges'!$D:$O,4,0)) -> ESWMID | E9: =IFERROR(IF(VLOOKUP($A9,'Annex 2 Designated EHV charges'!$D:$P,10,FALSE)=0,"",VLOOKUP($A9,'Annex 2 Designated EHV charges'!$D:$P,10,FALSE)),"") -> -4.41 | F9: =IFERROR(IF(VLOOKUP($A9,'Annex 2 Designated EHV charges'!$D:$P,11,FALSE)=0,"",VLOOKUP($A9,'Annex 2 Designated EHV charges'!$D:$P,11,FALSE)),"") -> 26.06 | G9: =IFERROR(IF(VLOOKUP($A9,'Annex 2 Designated EHV charges'!$D:$P,12,FALSE)=0,"",VLOOKUP($A9,'Annex 2 Designated EHV charges'!$D:$P,12,FALSE)),"") -> 0.05 | H9: =IFERROR(IF(VLOOKUP($A9,'Annex 2 Designated EHV charges'!$D:$P,13,FALSE)=0,"",VLOOKUP($A9,'Annex 2 Designated EHV charges'!$D:$P,13,FALSE)),"") -> 0.05
A10: {=IFERROR(INDEX('Annex 2 Designated EHV charges'!$D$10:$D$400, MATCH(0, IF(ISBLANK('Annex 2 Designated EHV charges'!$D$10:$D$400),1, COUNTIF(A$4:$A9, 'Annex 2 Designated EHV charges'!$D$10:$D$400)), 0)),"")} -> GLXOWR | B10: =IF($A10="","",VLOOKUP($A10,'Annex 2 Designated EHV charges'!$D:$O,2,0)) -> 433 | C10: =IF($A10="","",VLOOKUP($A10,'Annex 2 Designated EHV charges'!$D:$O,3,0)) -> 1030074763118;1030074763340 | D10: =IF($A10="","",VLOOKUP($A10,'Annex 2 Designated EHV charges'!$D:$O,4,0)) -> GLXOWR | E10: =IFERROR(IF(VLOOKUP($A10,'Annex 2 Designated EHV charges'!$D:$P,10,FALSE)=0,"",VLOOKUP($A10,'Annex 2 Designated EHV charges'!$D:$P,10,FALSE)),"") | F10: =IFERROR(IF(VLOOKUP($A10,'Annex 2 Designated EHV charges'!$D:$P,11,FALSE)=0,"",VLOOKUP($A10,'Annex 2 Designated EHV charges'!$D:$P,11,FALSE)),"") | G10: =IFERROR(IF(VLOOKUP($A10,'Annex 2 Designated EHV charges'!$D:$P,12,FALSE)=0,"",VLOOKUP($A10,'Annex 2 Designated EHV charges'!$D:$P,12,FALSE)),"") | H10: =IFERROR(IF(VLOOKUP($A10,'Annex 2 Designated EHV charges'!$D:$P,13,FALSE)=0,"",VLOOKUP($A10,'Annex 2 Designated EHV charges'!$D:$P,13,FALSE)),"")
A11: {=IFERROR(INDEX('Annex 2 Designated EHV charges'!$D$10:$D$400, MATCH(0, IF(ISBLANK('Annex 2 Designated EHV charges'!$D$10:$D$400),1, COUNTIF(A$4:$A10, 'Annex 2 Designated EHV charges'!$D$10:$D$400)), 0)),"")} -> NR_BAS | B11: =IF($A11="","",VLOOKUP($A11,'Annex 2 Designated EHV charges'!$D:$O,2,0)) -> 722 | C11: =IF($A11="","",VLOOKUP($A11,'Annex 2 Designated EHV charges'!$D:$O,3,0)) -> 1023545945010 | D11: =IF($A11="","",VLOOKUP($A11,'Annex 2 Designated EHV charges'!$D:$O,4,0)) -> NR_BAS | E11: =IFERROR(IF(VLOOKUP($A11,'Annex 2 Designated EHV charges'!$D:$P,10,FALSE)=0,"",VLOOKUP($A11,'Annex 2 Designated EHV charges'!$D:$P,10,FALSE)),"") | F11: =IFERROR(IF(VLOOKUP($A11,'Annex 2 Designated EHV charges'!$D:$P,11,FALSE)=0,"",VLOOKUP($A11,'Annex 2 Designated EHV charges'!$D:$P,11,FALSE)),"") | G11: =IFERROR(IF(VLOOKUP($A11,'Annex 2 Designated EHV charges'!$D:$P,12,FALSE)=0,"",VLOOKUP($A11,'Annex 2 Designated EHV charges'!$D:$P,12,FALSE)),"") | H11: =IFERROR(IF(VLOOKUP($A11,'Annex 2 Designated EHV charges'!$D:$P,13,FALSE)=0,"",VLOOKUP($A11,'Annex 2 Designated EHV charges'!$D:$P,13,FALSE)),"")
A12: {=IFERROR(INDEX('Annex 2 Designated EHV charges'!$D$10:$D$400, MATCH(0, IF(ISBLANK('Annex 2 Designated EHV charges'!$D$10:$D$400),1, COUNTIF(A$4:$A11, 'Annex 2 Designated EHV charges'!$D$10:$D$400)), 0)),"")} -> NR_COL | B12: =IF($A12="","",VLOOKUP($A12,'Annex 2 Designated EHV charges'!$D:$O,2,0)) -> 720 | C12: =IF($A12="","",VLOOKUP($A12,'Annex 2 Designated EHV charges'!$D:$O,3,0)) -> 1023545945047;1030077668707 | D12: =IF($A12="","",VLOOKUP($A12,'Annex 2 Designated EHV charges'!$D:$O,4,0)) -> NR_COL | E12: =IFERROR(IF(VLOOKUP($A12,'Annex 2 Designated EHV charges'!$D:$P,10,FALSE)=0,"",VLOOKUP($A12,'Annex 2 Designated EHV charges'!$D:$P,10,FALSE)),"") | F12: =IFERROR(IF(VLOOKUP($A12,'Annex 2 Designated EHV charges'!$D:$P,11,FALSE)=0,"",VLOOKUP($A12,'Annex 2 Designated EHV charges'!$D:$P,11,FALSE)),"") -> 3426.52 | G12: =IFERROR(IF(VLOOKUP($A12,'Annex 2 Designated EHV charges'!$D:$P,12,FALSE)=0,"",VLOOKUP($A12,'Annex 2 Designated EHV charges'!$D:$P,12,FALSE)),"") -> 0.05 | H12: =IFERROR(IF(VLOOKUP($A12,'Annex 2 Designated EHV charges'!$D:$P,13,FALSE)=0,"",VLOOKUP($A12,'Annex 2 Designated EHV charges'!$D:$P,13,FALSE)),"") -> 0.05
A13: {=IFERROR(INDEX('Annex 2 Designated EHV charges'!$D$10:$D$400, MATCH(0, IF(ISBLANK('Annex 2 Designated EHV charges'!$D$10:$D$400),1, COUNTIF(A$4:$A12, 'Annex 2 Designated EHV charges'!$D$10:$D$400)), 0)),"")} -> NR_CRW | B13: =IF($A13="","",VLOOKUP($A13,'Annex 2 Designated EHV charges'!$D:$O,2,0)) -> 721 | C13: =IF($A13="","",VLOOKUP($A13,'Annex 2 Designated EHV charges'!$D:$O,3,0)) -> 1023545945029 | D13: =IF($A13="","",VLOOKUP($A13,'Annex 2 Designated EHV charges'!$D:$O,4,0)) -> NR_CRW | E13: =IFERROR(IF(VLOOKUP($A13,'Annex 2 Designated EHV charges'!$D:$P,10,FALSE)=0,"",VLOOKUP($A13,'Annex 2 Designated EHV charges'!$D:$P,10,FALSE)),"") | F13: =IFERROR(IF(VLOOKUP($A13,'Annex 2 Designated EHV charges'!$D:$P,11,FALSE)=0,"",VLOOKUP($A13,'Annex 2 Designated EHV charges'!$D:$P,11,FALSE)),"") | G13: =IFERROR(IF(VLOOKUP($A13,'Annex 2 Designated EHV charges'!$D:$P,12,FALSE)=0,"",VLOOKUP($A13,'Annex 2 Designated EHV charges'!$D:$P,12,FALSE)),"") | H13: =IFERROR(IF(VLOOKUP($A13,'Annex 2 Designated EHV charges'!$D:$P,13,FALSE)=0,"",VLOOKUP($A13,'Annex 2 Designated EHV charges'!$D:$P,13,FALSE)),"")
A14: {=IFERROR(INDEX('Annex 2 Designated EHV charges'!$D$10:$D$400, MATCH(0, IF(ISBLANK('Annex 2 Designated EHV charges'!$D$10:$D$400),1, COUNTIF(A$4:$A13, 'Annex 2 Designated EHV charges'!$D$10:$D$400)), 0)),"")} -> NR_KNG | B14: =IF($A14="","",VLOOKUP($A14,'Annex 2 Designated EHV charges'!$D:$O,2,0)) -> 472 | C14: =IF($A14="","",VLOOKUP($A14,'Annex 2 Designated EHV charges'!$D:$O,3,0)) -> 1050000419767 | D14: =IF($A14="","",VLOOKUP($A14,'Annex 2 Designated EHV charges'!$D:$O,4,0)) -> NR_KNG | E14: =IFERROR(IF(VLOOKUP($A14,'Annex 2 Designated EHV charges'!$D:$P,10,FALSE)=0,"",VLOOKUP($A14,'Annex 2 Designated EHV charges'!$D:$P,10,FALSE)),"") | F14: =IFERROR(IF(VLOOKUP($A14,'Annex 2 Designated EHV charges'!$D:$P,11,FALSE)=0,"",VLOOKUP($A14,'Annex 2 Designated EHV charges'!$D:$P,11,FALSE)),"") | G14: =IFERROR(IF(VLOOKUP($A14,'Annex 2 Designated EHV charges'!$D:$P,12,FALSE)=0,"",VLOOKUP($A14,'Annex 2 Designated EHV charges'!$D:$P,12,FALSE)),"") | H14: =IFERROR(IF(VLOOKUP($A14,'Annex 2 Designated EHV charges'!$D:$P,13,FALSE)=0,"",VLOOKUP($A14,'Annex 2 Designated EHV charges'!$D:$P,13,FALSE)),"")
A15: {=IFERROR(INDEX('Annex 2 Designated EHV charges'!$D$10:$D$400, MATCH(0, IF(ISBLANK('Annex 2 Designated EHV charges'!$D$10:$D$400),1, COUNTIF(A$4:$A14, 'Annex 2 Designated EHV charges'!$D$10:$D$400)), 0)),"")} -> NR_MAN | B15: =IF($A15="","",VLOOKUP($A15,'Annex 2 Designated EHV charges'!$D:$O,2,0)) -> 723 | C15: =IF($A15="","",VLOOKUP($A15,'Annex 2 Designated EHV charges'!$D:$O,3,0)) -> 1023545947499 | D15: =IF($A15="","",VLOOKUP($A15,'Annex 2 Designated EHV charges'!$D:$O,4,0)) -> NR_MAN | E15: =IFERROR(IF(VLOOKUP($A15,'Annex 2 Designated EHV charges'!$D:$P,10,FALSE)=0,"",VLOOKUP($A15,'Annex 2 Designated EHV charges'!$D:$P,10,FALSE)),"") | F15: =IFERROR(IF(VLOOKUP($A15,'Annex 2 Designated EHV charges'!$D:$P,11,FALSE)=0,"",VLOOKUP($A15,'Annex 2 Designated EHV charges'!$D:$P,11,FALSE)),"") | G15: =IFERROR(IF(VLOOKUP($A15,'Annex 2 Designated EHV charges'!$D:$P,12,FALSE)=0,"",VLOOKUP($A15,'Annex 2 Designated EHV charges'!$D:$P,12,FALSE)),"") | H15: =IFERROR(IF(VLOOKUP($A15,'Annex 2 Designated EHV charges'!$D:$P,13,FALSE)=0,"",VLOOKUP($A15,'Annex 2 Designated EHV charges'!$D:$P,13,FALSE)),"")
A16: {=IFERROR(INDEX('Annex 2 Designated EHV charges'!$D$10:$D$400, MATCH(0, IF(ISBLANK('Annex 2 Designated EHV charges'!$D$10:$D$400),1, COUNTIF(A$4:$A15, 'Annex 2 Designated EHV charges'!$D$10:$D$400)), 0)),"")} -> NR_MIL | B16: =IF($A16="","",VLOOKUP($A16,'Annex 2 Designated EHV charges'!$D:$O,2,0)) -> 473 | C16: =IF($A16="","",VLOOKUP($A16,'Annex 2 Designated EHV charges'!$D:$O,3,0)) -> 1050000419785 | D16: =IF($A16="","",VLOOKUP($A16,'Annex 2 Designated EHV charges'!$D:$O,4,0)) -> NR_MIL | E16: =IFERROR(IF(VLOOKUP($A16,'Annex 2 Designated EHV charges'!$D:$P,10,FALSE)=0,"",VLOOKUP($A16,'Annex 2 Designated EHV charges'!$D:$P,10,FALSE)),"") | F16: =IFERROR(IF(VLOOKUP($A16,'Annex 2 Designated EHV charges'!$D:$P,11,FALSE)=0,"",VLOOKUP($A16,'Annex 2 Designated EHV charges'!$D:$P,11,FALSE)),"") | G16: =IFERROR(IF(VLOOKUP($A16,'Annex 2 Designated EHV charges'!$D:$P,12,FALSE)=0,"",VLOOKUP($A16,'Annex 2 Designated EHV charges'!$D:$P,12,FALSE)),"") | H16: =IFERROR(IF(VLOOKUP($A16,'Annex 2 Designated EHV charges'!$D:$P,13,FALSE)=0,"",VLOOKUP($A16,'Annex 2 Designated EHV charges'!$D:$P,13,FALSE)),"")
... A254: {=IFERROR(INDEX('Annex 2 Designated EHV charges'!$D$10:$D$400, MATCH(0, IF(ISBLANK('Annex 2 Designated EHV charges'!$D$10:$D$400),1, COUNTIF(A$4:$A253, 'Annex 2 Designated EHV charges'!$D$10:$D$400)), 0)),"")} | B254: =IF($A254="","",VLOOKUP($A254,'Annex 2 Designated EHV charges'!$D:$O,2,0)) | C254: =IF($A254="","",VLOOKUP($A254,'Annex 2 Designated EHV charges'!$D:$O,3,0)) | D254: =IF($A254="","",VLOOKUP($A254,'Annex 2 Designated EHV charges'!$D:$O,4,0)) | E254: =IFERROR(IF(VLOOKUP($A254,'Annex 2 Designated EHV charges'!$D:$P,10,FALSE)=0,"",VLOOKUP($A254,'Annex 2 Designated EHV charges'!$D:$P,10,FALSE)),"") | F254: =IFERROR(IF(VLOOKUP($A254,'Annex 2 Designated EHV charges'!$D:$P,11,FALSE)=0,"",VLOOKUP($A254,'Annex 2 Designated EHV charges'!$D:$P,11,FALSE)),"") | G254: =IFERROR(IF(VLOOKUP($A254,'Annex 2 Designated EHV charges'!$D:$P,12,FALSE)=0,"",VLOOKUP($A254,'Annex 2 Designated EHV charges'!$D:$P,12,FALSE)),"") | H254: =IFERROR(IF(VLOOKUP($A254,'Annex 2 Designated EHV charges'!$D:$P,13,FALSE)=0,"",VLOOKUP($A254,'Annex 2 Designated EHV charges'!$D:$P,13,FALSE)),"")
A255: {=IFERROR(INDEX('Annex 2 Designated EHV charges'!$D$10:$D$400, MATCH(0, IF(ISBLANK('Annex 2 Designated EHV charges'!$D$10:$D$400),1, COUNTIF(A$4:$A254, 'Annex 2 Designated EHV charges'!$D$10:$D$400)), 0)),"")}
A256: {=IFERROR(INDEX('Annex 2 Designated EHV charges'!$D$10:$D$400, MATCH(0, IF(ISBLANK('Annex 2 Designated EHV charges'!$D$10:$D$400),1, COUNTIF(A$4:$A255, 'Annex 2 Designated EHV charges'!$D$10:$D$400)), 0)),"")}
A257: {=IFERROR(INDEX('Annex 2 Designated EHV charges'!$D$10:$D$400, MATCH(0, IF(ISBLANK('Annex 2 Designated EHV charges'!$D$10:$D$400),1, COUNTIF(A$4:$A256, 'Annex 2 Designated EHV charges'!$D$10:$D$400)), 0)),"")}
A258: {=IFERROR(INDEX('Annex 2 Designated EHV charges'!$D$10:$D$400, MATCH(0, IF(ISBLANK('Annex 2 Designated EHV charges'!$D$10:$D$400),1, COUNTIF(A$4:$A257, 'Annex 2 Designated EHV charges'!$D$10:$D$400)), 0)),"")}
A259: {=IFERROR(INDEX('Annex 2 Designated EHV charges'!$D$10:$D$400, MATCH(0, IF(ISBLANK('Annex 2 Designated EHV charges'!$D$10:$D$400),1, COUNTIF(A$4:$A258, 'Annex 2 Designated EHV charges'!$D$10:$D$400)), 0)),"")}
A260: {=IFERROR(INDEX('Annex 2 Designated EHV charges'!$D$10:$D$400, MATCH(0, IF(ISBLANK('Annex 2 Designated EHV charges'!$D$10:$D$400),1, COUNTIF(A$4:$A259, 'Annex 2 Designated EHV charges'!$D$10:$D$400)), 0)),"")}
A261: {=IFERROR(INDEX('Annex 2 Designated EHV charges'!$D$10:$D$400, MATCH(0, IF(ISBLANK('Annex 2 Designated EHV charges'!$D$10:$D$400),1, COUNTIF(A$4:$A260, 'Annex 2 Designated EHV charges'!$D$10:$D$400)), 0)),"")}
A262: {=IFERROR(INDEX('Annex 2 Designated EHV charges'!$D$10:$D$400, MATCH(0, IF(ISBLANK('Annex 2 Designated EHV charges'!$D$10:$D$400),1, COUNTIF(A$4:$A261, 'Annex 2 Designated EHV charges'!$D$10:$D$400)), 0)),"")}
A263: {=IFERROR(INDEX('Annex 2 Designated EHV charges'!$D$10:$D$400, MATCH(0, IF(ISBLANK('Annex 2 Designated EHV charges'!$D$10:$D$400),1, COUNTIF(A$4:$A262, 'Annex 2 Designated EHV charges'!$D$10:$D$400)), 0)),"")}
A264: {=IFERROR(INDEX('Annex 2 Designated EHV charges'!$D$10:$D$400, MATCH(0, IF(ISBLANK('Annex 2 Designated EHV charges'!$D$10:$D$400),1, COUNTIF(A$4:$A263, 'Annex 2 Designated EHV charges'!$D$10:$D$400)), 0)),"")}
A265: {=IFERROR(INDEX('Annex 2 Designated EHV charges'!$D$10:$D$400, MATCH(0, IF(ISBLANK('Annex 2 Designated EHV charges'!$D$10:$D$400),1, COUNTIF(A$4:$A264, 'Annex 2 Designated EHV charges'!$D$10:$D$400)), 0)),"")}
A266: {=IFERROR(INDEX('Annex 2 Designated EHV charges'!$D$10:$D$400, MATCH(0, IF(ISBLANK('Annex 2 Designated EHV charges'!$D$10:$D$400),1, COUNTIF(A$4:$A265, 'Annex 2 Designated EHV charges'!$D$10:$D$400)), 0)),"")}
... A446: {=IFERROR(INDEX('Annex 2 Designated EHV charges'!$D$10:$D$400, MATCH(0, IF(ISBLANK('Annex 2 Designated EHV charges'!$D$10:$D$400),1, COUNTIF(A$4:$A445, 'Annex 2 Designated EHV charges'!$D$10:$D$400)), 0)),"")}

Sheet Annex 3 Preserved charges
A1: Back to Overview
A2: =Overview!B4& " - Effective from "&Overview!D4&" - "&Overview!E4&" LV and HV tariffs" -> Eastern Power Networks - Effective from 1 April 2026 - Final LV and HV tariffs
A4: Supercustomer preserved charges/additional LLFCs/ DUoS Tariff IDs
B5: Closed LLFCs/ DUoS Tariff IDs | C5: PCs | D5: Red/black unit charge p/kWh | E5: Amber/yellow unit charge p/kWh | F5: Green unit charge p/kWh | G5: Fixed charge p/MPAN/day
A7: Notes: | B7: Eastern Power Networks has no Preserved NHH Tariffs/Additional LLFCs/DUoS Tariff IDs
A12: Site Specific preserved charges/additional LLFCs/ DUoS Tariff IDs
B13: Closed LLFCs/ DUoS Tariff IDs | C13: PCs | D13: Red/black unit charge p/kWh | E13: Amber/yellow unit charge p/kWh | F13: Green unit charge p/kWh | G13: Fixed charge p/MPAN/day | H13: Capacity charge p/kVA/day | I13: Exceeded capacity charge p/kVA/day | J13: Reactive power charge p/kVArh
A15: Notes: | B15: Eastern Power Networks has no Preserved HH Tariffs/Additional LLFCs/DUoS Tariff IDs

Sheet Annex 4 LDNO charges
A1: Back to Overview
A2: =Overview!B4& " - Effective from "&Overview!D4&" - "&Overview!E4&" LDNO tariffs" -> Eastern Power Networks - Effective from 1 April 2026 - Final LDNO tariffs
A4: Time Bands for LV and HV Designated Properties | F4: Time Bands for Unmetered Properties
A5: Time periods | B5: Red Time Band | C5: Amber Time Band | D5: Green Time Band | H5: Black Time Band | I5: Yellow Time Band | J5: Green Time Band
A6: Monday to Friday (Including Bank Holidays) All Year | B6: 16:00 - 19:00 | C6: 07:00 - 16:00 19:00 - 23:00 | D6: 00:00 - 07:00 23:00 - 24:00 | F6: Monday to Friday (Including Bank Holidays) November to February Inclusive | H6: 16:00 - 19:00 | I6: 07:00 - 16:00 19:00 - 23:00 | J6: 00:00 - 07:00 23:00 - 24:00
A7: Saturday and Sunday All Year | D7: 00:00 - 24:00 | F7: Monday to Friday (Including Bank Holidays) March to October Inclusive | I7: 07:00 - 23:00 | J7: 00:00 - 07:00 23:00 - 24:00
A8: Notes | B8: All the above times are in UK Clock time | F8: Saturday and Sunday All Year | J8: 00:00 - 24:00
F9: Notes | H9: All the above times are in UK Clock time
A11: Tariff name | B11: Unique billing identifier | C11: PCs | D11: Red/black unit charge p/kWh | E11: Amber/yellow unit charge p/kWh | F11: Green unit charge p/kWh | G11: Fixed charge p/MPAN/day | H11: Capacity charge p/kVA/day | I11: Exceeded capacity charge p/kVA/day | J11: Reactive power charge p/kVArh
A12: LDNO LV: Domestic Aggregated or CT with Residual | B12: A00 | C12: 0, 1, 2 | D12: 10.228 | E12: 1.259 | F12: 0.161 | G12: 5.98
A13: LDNO LV: Domestic Aggregated (related MPAN) | B13: B00 | C13: 2 | D13: 10.228 | E13: 1.259 | F13: 0.161
A14: LDNO LV: Non-Domestic Aggregated or CT No Residual | B14: C00 | C14: 0, 3, 4, 5-8 | D14: 7.735 | E14: 0.952 | F14: 0.122 | G14: 6.22
A15: LDNO LV: Non-Domestic Aggregated or CT Band 1 | B15: C01 | C15: 0, 3, 4, 5-8 | D15: 7.735 | E15: 0.952 | F15: 0.122 | G15: 6.37
A16: LDNO LV: Non-Domestic Aggregated or CT Band 2 | B16: C02 | C16: 0, 3, 4, 5-8 | D16: 7.735 | E16: 0.952 | F16: 0.122 | G16: 6.66
A17: LDNO LV: Non-Domestic Aggregated or CT Band 3 | B17: C03 | C17: 0, 3, 4, 5-8 | D17: 7.735 | E17: 0.952 | F17: 0.122 | G17: 7.14
A18: LDNO LV: Non-Domestic Aggregated or CT Band 4 | B18: C04 | C18: 0, 3, 4, 5-8 | D18: 7.735 | E18: 0.952 | F18: 0.122 | G18: 8.61
A19: LDNO LV: Non-Domestic Aggregated (related MPAN) | B19: D00 | C19: 4 | D19: 7.735 | E19: 0.952 | F19: 0.122
A20: LDNO LV: LV Site Specific No Residual | B20: E00 | C20: 0 | D20: 5.38 | E20: 0.619 | F20: 0.071 | G20: 14.19 | H20: 5.31 | I20: 5.31 | J20: 0.244
A21: LDNO LV: LV Site Specific Band 1 | B21: E01 | C21: 0 | D21: 5.38 | E21: 0.619 | F21: 0.071 | G21: 18.93 | H21: 5.31 | I21: 5.31 | J21: 0.244
A22: LDNO LV: LV Site Specific Band 2 | B22: E02 | C22: 0 | D22: 5.38 | E22: 0.619 | F22: 0.071 | G22: 21.85 | H22: 5.31 | I22: 5.31 | J22: 0.244
A23: LDNO LV: LV Site Specific Band 3 | B23: E03 | C23: 0 | D23: 5.38 | E23: 0.619 | F23: 0.071 | G23: 24.72 | H23: 5.31 | I23: 5.31 | J23: 0.244
A24: LDNO LV: LV Site Specific Band 4 | B24: E04 | C24: 0 | D24: 5.38 | E24: 0.619 | F24: 0.071 | G24: 44.01 | H24: 5.31 | I24: 5.31 | J24: 0.244
A25: LDNO LV: Unmetered Supplies | B25: U00 | C25: 0, 1 or 8 | D25: 26.387 | E25: 2.235 | F25: 1.354
A26: LDNO LV: LV Generation Aggregated | B26: F00 | C26: 0, 8 | D26: -9.135 | E26: -1.124 | F26: -0.144 | G26: 0
A27: LDNO LV: LV Generation Site Specific | B27: G00 | C27: 0 | D27: -9.135 | E27: -1.124 | F27: -0.144 | G27: 0 | J27: 0.459
A28: LDNO HV: Domestic Aggregated or CT with Residual | B28: A10 | C28: 0, 1, 2 | D28: 7.848 | E28: 0.966 | F28: 0.123 | G28: 4.59
A29: LDNO HV: Domestic Aggregated (Related MPAN) | B29: B10 | C29: 2 | D29: 7.848 | E29: 0.966 | F29: 0.123
A30: LDNO HV: Non-Domestic Aggregated or CT No Residual | B30: C10 | C30: 0, 3, 4, 5-8 | D30: 5.935 | E30: 0.73 | F30: 0.093 | G30: 4.77
A31: LDNO HV: Non-Domestic Aggregated or CT Band 1 | B31: C11 | C31: 0, 3, 4, 5-8 | D31: 5.935 | E31: 0.73 | F31: 0.093 | G31: 4.89
A32: LDNO HV: Non-Domestic Aggregated or CT Band 2 | B32: C12 | C32: 0, 3, 4, 5-8 | D32: 5.935 | E32: 0.73 | F32: 0.093 | G32: 5.11
A33: LDNO HV: Non-Domestic Aggregated or CT Band 3 | B33: C13 | C33: 0, 3, 4, 5-8 | D33: 5.935 | E33: 0.73 | F33: 0.093 | G33: 5.48
A34: LDNO HV: Non-Domestic Aggregated or CT Band 4 | B34: C14 | C34: 0, 3, 4, 5-8 | D34: 5.935 | E34: 0.73 | F34: 0.093 | G34: 6.6
A35: LDNO HV: Non-Domestic Aggregated (related MPAN) | B35: D10 | C35: 4 | D35: 5.935 | E35: 0.73 | F35: 0.093
A36: LDNO HV: LV Site Specific No Residual | B36: E10 | C36: 0 | D36: 4.128 | E36: 0.475 | F36: 0.055 | G36: 10.89 | H36: 4.07 | I36: 4.07 | J36: 0.187
A37: LDNO HV: LV Site Specific Band 1 | B37: E11 | C37: 0 | D37: 4.128 | E37: 0.475 | F37: 0.055 | G37: 14.52 | H37: 4.07 | I37: 4.07 | J37: 0.187
A38: LDNO HV: LV Site Specific Band 2 | B38: E12 | C38: 0 | D38: 4.128 | E38: 0.475 | F38: 0.055 | G38: 16.76 | H38: 4.07 | I38: 4.07 | J38: 0.187
A39: LDNO HV: LV Site Specific Band 3 | B39: E13 | C39: 0 | D39: 4.128 | E39: 0.475 | F39: 0.055 | G39: 18.97 | H39: 4.07 | I39: 4.07 | J39: 0.187
A40: LDNO HV: LV Site Specific Band 4 | B40: E14 | C40: 0 | D40: 4.128 | E40: 0.475 | F40: 0.055 | G40: 33.77 | H40: 4.07 | I40: 4.07 | J40: 0.187
A41: LDNO HV: LV Sub Site Specific No Residual | B41: J10 | C41: 0 | D41: 4.297 | E41: 0.44 | F41: 0.041 | G41: 14.01 | H41: 4.73 | I41: 4.73 | J41: 0.172
A42: LDNO HV: LV Sub Site Specific Band 1 | B42: J11 | C42: 0 | D42: 4.297 | E42: 0.44 | F42: 0.041 | G42: 19.61 | H42: 4.73 | I42: 4.73 | J42: 0.172
...

Sheet Annex 5 LLFs
A1: Back to Overview
A2: These line loss factors are illustrative based on the latest calculated values and are published in good faith. However, the line loss factors that are approved by the BSC Panel for the applicable year and consequently published on the Elexon website will take precedence and will be used in Settlement if they differ from these values.
A3: =Overview!B4& " - Illustrative LLFs for year beginning "&Overview!D4 -> Eastern Power Networks - Illustrative LLFs for year beginning 1 April 2026
A5: Time periods | C5: Period 1 | D5: Period 2 | E5: Period 3 | F5: Period 4 | G5: Period 5
C6: Winter Peak | D6: Summer Peak | E6: Winter Shoulder | F6: Night | G6: Other
A7: Monday to Friday November to February | C7: 16:00 - 20:00 | E7: 07:00 - 16:00
A8: Monday to Friday June to August | D8: 07:00 - 20:00
A9: Monday to Friday March | E9: 07:00 - 20:00
A10: All Year | F10: 00:00 - 07:00 | G10: All Other Times
A11: Notes | C11: All the above times are in UK Clock time
A13: Generic demand and generation LLFs
A14: Metered voltage, respective periods and associated LLFCs/DUoS Tariff IDs
A15: Metered voltage | B15: Period 1 | C15: Period 2 | D15: Period 3 | E15: Period 4 | F15: Period 5 | G15: Associated LLFC/DUoS Tariff ID
A16: Low-voltage network | B16: 1.139 | C16: 1.097 | D16: 1.121 | E16: 1.09 | F16: 1.105 | G16: 1, 2, 3, 7, 70, 71, 72, 73, 74, 100, 101, 102, 103, 110, 111, 112, 113, 150, 151, 152, 153, 160, 161, 162, 163, 199, 200, 201, 202, 203, 204, 350, 932, 980, 981, N01, N02, N03, N04
A17: Low-voltage substation | B17: 1.046 | C17: 1.04 | D17: 1.043 | E17: 1.041 | F17: 1.041 | G17: 80, 81, 82, 83, 84, 984, 985
A18: High-voltage network | B18: 1.036 | C18: 1.028 | D18: 1.033 | E18: 1.027 | F18: 1.029 | G18: 90, 91, 92, 93, 94, 988, 989
A19: High-voltage substation | B19: 1.027 | C19: 1.022 | D19: 1.025 | E19: 1.022 | F19: 1.023 | G19: 771, 791, 792
A20: 33kV generic | B20: 1.022 | C20: 1.016 | D20: 1.02 | E20: 1.016 | F20: 1.018 | G20: 796, 797
A21: 132kV generic | B21: 1.007 | C21: 1.005 | D21: 1.006 | E21: 1.005 | F21: 1.005 | G21: 798, 799
A23: EHV site specific LLFs
A24: Demand
A25: Site | B25: Period 1 | C25: Period 2 | D25: Period 3 | E25: Period 4 | F25: Period 5 | G25: Associated LLFC/DUoS Tariff ID
A26: MEDESF - Import | B26: 1.007 | C26: 1.005 | D26: 1.006 | E26: 1.005 | F26: 1.005 | G26: 280
A27: ALCORG - Import | B27: 1.022 | C27: 1.016 | D27: 1.02 | E27: 1.016 | F27: 1.018 | G27: 300
A28: BARNFM - Import | B28: 1.022 | C28: 1.016 | D28: 1.02 | E28: 1.016 | F28: 1.018 | G28: 301
A29: BERDHF - Import | B29: 1 | C29: 1 | D29: 1 | E29: 1 | F29: 1 | G29: 302
A30: CLAYPV - Import | B30: 1.032 | C30: 1.032 | D30: 1.033 | E30: 1.032 | F30: 1.032 | G30: 303
A31: CLFFQY - Import | B31: 1.007 | C31: 1.005 | D31: 1.006 | E31: 1.005 | F31: 1.005 | G31: 304
A32: CLRDWN - Import | B32: 1.033 | C32: 1.023 | D32: 1.029 | E32: 1.027 | F32: 1.024 | G32: 305
A33: COMBRN - Import | B33: 1.022 | C33: 1.016 | D33: 1.02 | E33: 1.016 | F33: 1.018 | G33: 306
A34: CRSSNG - Import | B34: 1.022 | C34: 1.016 | D34: 1.02 | E34: 1.016 | F34: 1.018 | G34: 307
A35: ERNUNN - Import | B35: 1.007 | C35: 1.005 | D35: 1.006 | E35: 1.005 | F35: 1.005 | G35: 308
A36: GOOSFM - Import | B36: 1.022 | C36: 1.016 | D36: 1.02 | E36: 1.016 | F36: 1.018 | G36: 309
A37: GREYSH - Import | B37: 1.022 | C37: 1.016 | D37: 1.02 | E37: 1.016 | F37: 1.018 | G37: 310
... A308: STWBRG - Import | B308: 1.022 | C308: 1.016 | D308: 1.02 | E308: 1.016 | F308: 1.018 | G308: 898
